BEGIN:VCALENDAR
VERSION:2.0
PRODID:-//wp-events-plugin.com//7.2.3.1//EN
TZID:America/Detroit
X-WR-TIMEZONE:America/Detroit
BEGIN:VEVENT
UID:77169@annarborwithkids.com
DTSTART;TZID=America/Detroit:20240408T130000
DTEND;TZID=America/Detroit:20240408T160000
DTSTAMP:20240405T040154Z
URL:https://annarborwithkids.com/events/indoor-total-solar-eclipse-lobbyca
 st/
SUMMARY:Indoor Total Solar Eclipse Lobbycast
DESCRIPTION:\nJoin us in the lobby of the Downtown library and grab a seat 
 to view a NASA broadcast of the 2024 total solar eclipse. We'll track the 
 event from Texas to Maine\, and also attempt to show the local eclipse on 
 the big screen. Please note\, solar viewing glasses will not be available 
 at this event\, all viewing will take place on a large screen in the lobby
  of the library.\n\n\n\nFor all ages.\n\n\n\n[wpv-view name="posts-by-id-s
 hortcode" ids="53206"]\n
CATEGORIES:Arbor Annie's Highlights,Elementary,Free,High Schoolers,Indoor
 Activities,Middle Schoolers,Parents,Preschoolers,STEM
LOCATION:Downtown Branch of AADL\, 343 South Fifth Avenue\, Ann Arbor\, Mic
 higan\, 48104\, Downtown\, United States
GEO:42.278198;-83.745971
X-APPLE-STRUCTURED-LOCATION;VALUE=URI;X-ADDRESS=343 South Fifth Avenue\, An
 n Arbor\, Michigan\, 48104\, Downtown\, United States;X-APPLE-RADIUS=100;X
 -TITLE=Downtown Branch of AADL:geo:42.278198,-83.745971
END:VEVENT
BEGIN:VTIMEZONE
TZID:America/Detroit
X-LIC-LOCATION:America/Detroit
BEGIN:DAYLIGHT
DTSTART:20240310T030000
TZOFFSETFROM:-0500
TZOFFSETTO:-0400
TZNAME:EDT
END:DAYLIGHT
END:VTIMEZONE
END:VCALENDAR