BEGIN:VCALENDAR
VERSION:2.0
PRODID:-//wp-events-plugin.com//7.2.3.1//EN
TZID:America/Detroit
X-WR-TIMEZONE:America/Detroit
BEGIN:VEVENT
UID:93518@annarborwithkids.com
DTSTART;TZID=America/Detroit:20260508T183000
DTEND;TZID=America/Detroit:20260508T193000
DTSTAMP:20260416T173248Z
URL:https://annarborwithkids.com/events/huntrix-for-the-fans-fest/
SUMMARY:Huntrix: For the Fans Fest
DESCRIPTION:\nJoin Rumi\, Zoey\, and Mira from Kpop Demon Hunters for an un
 forgettable night of live song performances\, dancing\, crafts\, glitter t
 attoos\, and more! You’ll even get a chance to personally meet the band!
 \n\n\n\n\n\nSchedule:\n\n\n\n\n6:30-7p - Hands on Activities (without Hunt
 rix)\n\n\n\n7-7:40p - Interactive Show\n\nLive Song Performance-How It’s
  Done\n\n\n\nDance Lesson- Golden\n\n\n\nGame- Pattern Pass\n\n\n\nLive So
 ng Performance- Takedown\n\n\n\nDance Party- Soda Pop\n\n\n\nGame- Huntrix
  Says\n\n\n\nLive Song Performance- This is What it Sounds Like\n\n\n\n\n\
 n7:40-8p - Meet &amp\; greet\, character pics and more activity time\n\n\n
 \n\n\n\n\n\n\n\n\n\nTickets:$25 per child$20 per adult\n\n\n\nThis event i
 s offered in partnership between Starbright Entertainment LLC and Stone Ch
 alet Bed and Breakfast Inn and Event Center.\n
ATTACH;FMTTYPE=image/jpeg:https://annarborwithkids.com/wp-content/uploads/
 20260227_115500-Edited.jpg
CATEGORIES:Advance Registration,Arbor Annie's
 Highlights,Crafts,Dance,Display Image,Indoor
 Activities,Music/Concerts,Plus,Pop Culture,Registration
 Required,Sponsoring Event
LOCATION:Stone Chalet Events\, 1917 Washtenaw Ave\, Ann Arbor\, Michigan\, 
 48104\, United States
GEO:42.26844699999999;-83.72233829999999
X-APPLE-STRUCTURED-LOCATION;VALUE=URI;X-ADDRESS=1917 Washtenaw Ave\, Ann Ar
 bor\, Michigan\, 48104\, United States;X-APPLE-RADIUS=100;X-TITLE=Stone Ch
 alet Events:geo:42.26844699999999,-83.72233829999999
END:VEVENT
BEGIN:VTIMEZONE
TZID:America/Detroit
X-LIC-LOCATION:America/Detroit
BEGIN:DAYLIGHT
DTSTART:20260308T030000
TZOFFSETFROM:-0500
TZOFFSETTO:-0400
TZNAME:EDT
END:DAYLIGHT
END:VTIMEZONE
END:VCALENDAR