BEGIN:VCALENDAR
VERSION:2.0
PRODID:-//wp-events-plugin.com//7.2.3.1//EN
TZID:America/Detroit
X-WR-TIMEZONE:America/Detroit
BEGIN:VEVENT
UID:40594@annarborwithkids.com
DTSTART;TZID=America/Detroit:20250614T120000
DTEND;TZID=America/Detroit:20250614T233000
DTSTAMP:20250522T040749Z
URL:https://annarborwithkids.com/events/humburg-fun-fest-2/
SUMMARY:Hamburg Fun Fest
DESCRIPTION:\nCelebrate with the Hamburg Fun Fest. Don't miss the carnival 
 rides\, entertainment shows\, and fun activities like a petting zoo\, arch
 ery\, fireworks\, and more.\n\n\n\n$25 in advance through June 10. At the 
 gate: $27/Wednesday\, $30/Thursday or Friday\, $35/Saturday\, and $25/Sund
 ay\n\n\n\nSelect Saturday activities include:\n\n\n\n\nWatch pro wrestling
  on Saturday evening\n\n\n\nFamily Fun Ride fundraiser on Saturday at noon
 \n\n\n\nClassic &amp\; Custom Car Show - Saturday at 12:30p\n\n\n\n\n\n\n\
 n\nSaturday Activities:\n\n\n\n\n8:30a - HERO Freedom 1 Mile Fun Run\n\n\n
 \n9a - HERO Freedom 5K Run/Walk\n\n\n\n11a-3p - Classic &amp\; Custom Car 
 Show\n\n\n\nnoon - Family Fun Rid\n\n\n\nnoon-close - Carnival\n\n\n\nnoon
 -6p - Bike Repairs\n\n\n\nnoon-8p - Arts &amp\; Crafts\n\n\n\nnoon-10p - P
 etting Zoo/Reptiles\n\n\n\n12:30-3p - Youth Archery Shoot\n\n\n\n1-9p - Ul
 timate Bricks &amp\; Blocks Fun Zone/Legos\n\n\n\n1-9p - Mini Golf Putt Pu
 tt Free Play\n\n\n\n1-7p - Little Conductors Train Rides\n\n\n\n1p - Unbel
 ievable Comedy Magic\n\n\n\n1:30p - Rumble in the Ring Pro Wrestling Showd
 own\n\n\n\n2-6p - Mobile Arts Glass Blowing\n\n\n\n2-8p - Strolling Charac
 ters\n\n\n\n2p - Flying Cortez Trapeze Spectacular\n\n\n\n2:30p - Interact
 ive Reptile Presentation\n\n\n\n3p - Unbelievable Comedy Magic\n\n\n\n3:30
 p Mini-Golf Tournament\n\n\n\n4p - Capes &amp\; Crowns Character Party\n\n
 \n\n4-6p - Youth Archery Shoot\n\n\n\n4:30p - Rumble in the Ring Pro Wrest
 ling Showdown\n\n\n\n4:30p - Unbelievable Comedy Magic\n\n\n\n5p Flying Co
 rtez Trapeze Spectacular\n\n\n\n5:30p - Mini-Golf Tournament\n\n\n\n6p - B
 icycle Giveaway Drawing\n\n\n\n6p - Rumble in the Ring Pro Wrestling Showd
 own\n\n\n\n6:30p - Interactive Reptile Presentation\n\n\n\n7p - Unbelievab
 le Comedy Magic\n\n\n\n7:30p - Mini-Golf Tournament\n\n\n\n8p - Flying Cor
 tez Trapeze Spectacular\n\n\n\n8p - Midnight Special\n\n\n\n8:30p - Rumble
  in the Ring Pro Wrestling Showdown\n\n\n\n9p - Unbelievable Comedy Magic\
 n\n\n\n10p - Laser Light Show/Fireworks\n\n\n\n\nHamburg Fun Fest Schedule
 :\n\n\n\n[events_list tag="Hamburg Fun Fest" scope="2025-06-01\,2025-06-30
 "][/events_list]\n\n\n\n\n\n/fire\n
CATEGORIES:Advance Registration,Arbor Annie's Highlights,Carnival
 Rides,Community Fair,Elementary,Fireworks,High Schoolers,Middle
 Schoolers,Parents,Preschoolers,Toddler
LOCATION:Manly Bennet Park\, 10405 Merrill Road\, Whitmore Lake\, Michigan\
 , 48139\, Whitmore Lake\, United States
GEO:42.4516175;-83.82019679999996
X-APPLE-STRUCTURED-LOCATION;VALUE=URI;X-ADDRESS=10405 Merrill Road\, Whitmo
 re Lake\, Michigan\, 48139\, Whitmore Lake\, United States;X-APPLE-RADIUS=
 100;X-TITLE=Manly Bennet Park:geo:42.4516175,-83.82019679999996
END:VEVENT
BEGIN:VTIMEZONE
TZID:America/Detroit
X-LIC-LOCATION:America/Detroit
BEGIN:DAYLIGHT
DTSTART:20250309T030000
TZOFFSETFROM:-0500
TZOFFSETTO:-0400
TZNAME:EDT
END:DAYLIGHT
END:VTIMEZONE
END:VCALENDAR