BEGIN:VCALENDAR
VERSION:2.0
PRODID:-//wp-events-plugin.com//7.2.3.1//EN
TZID:America/Detroit
X-WR-TIMEZONE:America/Detroit
BEGIN:VEVENT
UID:92470@annarborwithkids.com
DTSTART;TZID=America/Detroit:20260214T110000
DTEND;TZID=America/Detroit:20260214T120000
DTSTAMP:20260129T224028Z
URL:https://annarborwithkids.com/events/hugs-and-kisses-storytime/
SUMMARY:Hugs and Kisses Storytime
DESCRIPTION:\nEnjoy stories and songs followed by cookie decorating\, craft
 s\, and a Valentine’s Day sensory bin.\n\n\n\n\n\n\n\n\n
CATEGORIES:Arbor Annie's Highlights,Crafts,Food,Free,Indoor
 Activities,Preschoolers,Storytime,Toddler,Valentine's Day
LOCATION:Ypsilanti District Library - Whittaker Rd\, 5577 Whittaker Rd\, Yp
 silanti\, Michigan\, 48197\, Ypsilanti\, United States
GEO:42.208097;-83.61557
X-APPLE-STRUCTURED-LOCATION;VALUE=URI;X-ADDRESS=5577 Whittaker Rd\, Ypsilan
 ti\, Michigan\, 48197\, Ypsilanti\, United States;X-APPLE-RADIUS=100;X-TIT
 LE=Ypsilanti District Library - Whittaker Rd:geo:42.208097,-83.61557
END:VEVENT
BEGIN:VTIMEZONE
TZID:America/Detroit
X-LIC-LOCATION:America/Detroit
BEGIN:STANDARD
DTSTART:20251102T010000
TZOFFSETFROM:-0400
TZOFFSETTO:-0500
TZNAME:EST
END:STANDARD
END:VTIMEZONE
END:VCALENDAR