BEGIN:VCALENDAR
VERSION:2.0
PRODID:-//wp-events-plugin.com//7.2.3.1//EN
TZID:America/Detroit
X-WR-TIMEZONE:America/Detroit
BEGIN:VEVENT
UID:60415@annarborwithkids.com
DTSTART;TZID=America/Detroit:20241012T100000
DTEND;TZID=America/Detroit:20241012T130000
DTSTAMP:20251001T212534Z
URL:https://annarborwithkids.com/events/hot-rod-halloween/
SUMMARY:Hot Rod Halloween
DESCRIPTION:\nPalmer Auto Service is holding a Hot Rod Halloween Car Show -
  weather pending. They will also have cider and donuts.\n\n\n\n\n\n\n\n\n\
 n\n\n\n\n\n\n\n
CATEGORIES:Arbor Annie's Highlights,Car
 Show,Elementary,Free,Halloween,High Schoolers,Middle
 Schoolers,Outdoor,Parents,Preschoolers,Toddler,Vehicles
LOCATION:Palmer Auto Service\, 222 S Main St\, Chelsea\, Michigan\, 48118\,
  United States
GEO:42.316444;-84.020791
X-APPLE-STRUCTURED-LOCATION;VALUE=URI;X-ADDRESS=222 S Main St\, Chelsea\, M
 ichigan\, 48118\, United States;X-APPLE-RADIUS=100;X-TITLE=Palmer Auto Ser
 vice:geo:42.316444,-84.020791
END:VEVENT
BEGIN:VTIMEZONE
TZID:America/Detroit
X-LIC-LOCATION:America/Detroit
BEGIN:DAYLIGHT
DTSTART:20240310T030000
TZOFFSETFROM:-0500
TZOFFSETTO:-0400
TZNAME:EDT
END:DAYLIGHT
END:VTIMEZONE
END:VCALENDAR