BEGIN:VCALENDAR
VERSION:2.0
PRODID:-//wp-events-plugin.com//7.2.3.1//EN
TZID:America/Detroit
X-WR-TIMEZONE:America/Detroit
BEGIN:VEVENT
UID:93205@annarborwithkids.com
DTSTART;TZID=America/Detroit:20260403T130000
DTEND;TZID=America/Detroit:20260403T160000
DTSTAMP:20260321T203127Z
URL:https://annarborwithkids.com/events/hop-into-spring/
SUMMARY:Hop into Spring
DESCRIPTION:\nHop into spring with a FREE family event at Wasem Fruit Farm.
 \n\n\n\n\nEaster Egg Hunt (1p)\n\n\n\nRabbit Petting Farm (GIANT rabbits)\
 n\n\n\nTouch a Tractor\n\n\n\n\nThey will have their farm fresh treats for
  purchase - donuts\, cider\, slushies (if the weather is warm)\, Easter th
 emed treats\, and much more.\n\n\n\n\n\n\n\n\n
CATEGORIES:Animals,Arbor Annie's Highlights,Easter,Egg
 Hunt,Elementary,Free,Outdoor,Parents,Preschoolers,Toddler,Vehicles
LOCATION:Wasem Fruit Farm\, 6580 Judd Rd\, Milan\, Michigan\, 48160\, Unite
 d States
GEO:42.141661;-83.628263
X-APPLE-STRUCTURED-LOCATION;VALUE=URI;X-ADDRESS=6580 Judd Rd\, Milan\, Mich
 igan\, 48160\, United States;X-APPLE-RADIUS=100;X-TITLE=Wasem Fruit Farm:g
 eo:42.141661,-83.628263
END:VEVENT
BEGIN:VTIMEZONE
TZID:America/Detroit
X-LIC-LOCATION:America/Detroit
BEGIN:DAYLIGHT
DTSTART:20260308T030000
TZOFFSETFROM:-0500
TZOFFSETTO:-0400
TZNAME:EDT
END:DAYLIGHT
END:VTIMEZONE
END:VCALENDAR