BEGIN:VCALENDAR
VERSION:2.0
PRODID:-//wp-events-plugin.com//7.2.3.1//EN
TZID:America/Detroit
X-WR-TIMEZONE:America/Detroit
BEGIN:VEVENT
UID:68002@annarborwithkids.com
DTSTART;TZID=America/Detroit:20251207T150000
DTEND;TZID=America/Detroit:20251207T150000
DTSTAMP:20251105T200534Z
URL:https://annarborwithkids.com/events/hometown-holiday-concert/
SUMMARY:Chelsea Chamber Players Annual Hometown Holiday Concert
DESCRIPTION:\nCelebrate the season with music that warms the heart! Join us
  for the Chelsea Chamber Players’ annual Hometown Holiday Concert on Dec
 ember 7th at 3pm at St Joseph Church\, Dexter and 7pm at Chelsea First Uni
 ted Methodist Church.\n\n\n\nThis collaborative community event features e
 nchanting performances by the Chelsea Chamber Players\, talented students 
 from CHS orchestra and choir\, along with the angelic voices of choirs fro
 m CFUMC and St. Joseph Parish.\n\n\n\nAdmission is Free.\n\n\n\n\n\n\n\n\n
CATEGORIES:Arbor Annie's Highlights,Christmas,Concert,Elementary,Free,High
 Schoolers,Indoor Activities,Middle
 Schoolers,Music/Concerts,Parents,Performance,Preschoolers
LOCATION:St Joseph Church\, 6805 Mast Rd\, Dexter\, Micighan\, 48130\, Dext
 er\, United States
GEO:42.3782105;-83.873198
X-APPLE-STRUCTURED-LOCATION;VALUE=URI;X-ADDRESS=6805 Mast Rd\, Dexter\, Mic
 ighan\, 48130\, Dexter\, United States;X-APPLE-RADIUS=100;X-TITLE=St Josep
 h Church:geo:42.3782105,-83.873198
END:VEVENT
BEGIN:VTIMEZONE
TZID:America/Detroit
X-LIC-LOCATION:America/Detroit
BEGIN:STANDARD
DTSTART:20251102T010000
TZOFFSETFROM:-0400
TZOFFSETTO:-0500
TZNAME:EST
END:STANDARD
END:VTIMEZONE
END:VCALENDAR