BEGIN:VCALENDAR
VERSION:2.0
PRODID:-//wp-events-plugin.com//7.2.3.1//EN
TZID:America/Detroit
X-WR-TIMEZONE:America/Detroit
BEGIN:VEVENT
UID:66958@annarborwithkids.com
DTSTART;TZID=America/Detroit:20241031T090000
DTEND;TZID=America/Detroit:20241031T150000
DTSTAMP:20240927T151002Z
URL:https://annarborwithkids.com/events/hometown-halloween-5/
SUMMARY:Customer Appreciation Day
DESCRIPTION:\nChelsea State Bank will be celebrating Customer Appreciation 
 Day on Halloween. They will have donuts and cider from Dexter Cider Mill. 
 Their employees will also be dressed up for their annual employee costume 
 contest.\n\n\n\n\n\n\n\n\n
CATEGORIES:Arbor Annie's Highlights,Elementary,Free,Halloween,High
 Schoolers,Middle Schoolers,Parents,Preschoolers,Toddler
LOCATION:Downtown Chelsea\, Main St and Middle St\, Chelsea\, Michigan\, Ch
 elsea\, United States
GEO:42.31813;-84.02050729999996
X-APPLE-STRUCTURED-LOCATION;VALUE=URI;X-ADDRESS=Main St and Middle St\, Che
 lsea\, Michigan\, Chelsea\, United States;X-APPLE-RADIUS=100;X-TITLE=Downt
 own Chelsea:geo:42.31813,-84.02050729999996
END:VEVENT
BEGIN:VTIMEZONE
TZID:America/Detroit
X-LIC-LOCATION:America/Detroit
BEGIN:DAYLIGHT
DTSTART:20240310T030000
TZOFFSETFROM:-0500
TZOFFSETTO:-0400
TZNAME:EDT
END:DAYLIGHT
END:VTIMEZONE
END:VCALENDAR