BEGIN:VCALENDAR
VERSION:2.0
PRODID:-//wp-events-plugin.com//7.2.3.1//EN
TZID:America/Detroit
X-WR-TIMEZONE:America/Detroit
BEGIN:VEVENT
UID:86033@annarborwithkids.com
DTSTART;TZID=America/Detroit:20260523T070000
DTEND;TZID=America/Detroit:20260523T100000
DTSTAMP:20260318T170747Z
URL:https://annarborwithkids.com/events/hometown-half-marathon-10k-5k/
SUMMARY:Hometown Half Marathon/10K/5K
DESCRIPTION:\nRace Day Schedule5:30-6:45am Packet Pickup6:55am Kids Dash (M
 eet at the Start Line and they will walk participants out to the starting 
 area)7:00am National Anthem and Race Start!Results and Awards are live and
  available at the Registration tent immediately following your finish!\n\n
 \n\nEvery Registration IncludesGreat Swag – designer shirtCustom medalCh
 ip-timing with live results and awardsFree photosFREE snacks at the finish
  line!Plenty of fun!Grab your friends and family\, you are not going to wa
 nt to miss this one!\n\n\n\n*Youth-based pricing for the 5k/10k\, 12 &amp\
 ; Under are only $17!\n\n\n\n*Register by midnight on Thursday\, two Thurs
 days before race day\, to guarantee your shirt!\n\n\n\nMore Than a RunBeca
 use they’re all about fun\, family-friendly events that welcome every pa
 ce and fitness level. This spring race is the perfect chance to challenge 
 yourself\, enjoy creative swag\, and be part of an encouraging\, affordabl
 e\, and inclusive community. Whether you're chasing a PR or just showing u
 p for the fun\, they’re there to cheer you on every step of the way.\n\n
 \n\nRun your race\, your way.\n\n\n\n5k/10k/Half Marathon registration inc
 ludes a custom bib\, designer shirt\, and a custom finisher medal!1 Mile r
 egistration is untimed and includes a custom bib\, designer shirt\, and a 
 custom finisher medal!The kid's dash is a fun\, untimed dash for our kiddo
 s ages 10 and under. Registration includes a mini bib\, youth-sized shirt\
 , and a specifically crafted medal for the kids' dash event! (If your chil
 d wants to run the kid's dash\, and doesn't want the SWAG\, they are welco
 me to run on race day for free!)\n\n\n\n\n
CATEGORIES:Advance Registration,Arbor Annie's Highlights,Elementary,High
 Schoolers,Middle Schoolers,Outdoor,Parents,Preschoolers,Race,Registration
 Required
LOCATION:Kensington Metropark\, 4570 Huron River Parkway\, Milford\, Michig
 an\, 48381\, Beyond Washtenaw\, United States
GEO:42.528995;-83.637566
X-APPLE-STRUCTURED-LOCATION;VALUE=URI;X-ADDRESS=4570 Huron River Parkway\, 
 Milford\, Michigan\, 48381\, Beyond Washtenaw\, United States;X-APPLE-RADI
 US=100;X-TITLE=Kensington Metropark:geo:42.528995,-83.637566
END:VEVENT
BEGIN:VTIMEZONE
TZID:America/Detroit
X-LIC-LOCATION:America/Detroit
BEGIN:DAYLIGHT
DTSTART:20260308T030000
TZOFFSETFROM:-0500
TZOFFSETTO:-0400
TZNAME:EDT
END:DAYLIGHT
END:VTIMEZONE
END:VCALENDAR