BEGIN:VCALENDAR
VERSION:2.0
PRODID:-//wp-events-plugin.com//7.2.3.1//EN
TZID:America/Detroit
X-WR-TIMEZONE:America/Detroit
BEGIN:VEVENT
UID:89367@annarborwithkids.com
DTSTART;TZID=America/Detroit:20260426T140000
DTEND;TZID=America/Detroit:20260426T153000
DTSTAMP:20260409T180958Z
URL:https://annarborwithkids.com/events/hike-around-mill-lake-2/
SUMMARY:Ephemeral Hike: Exploring the "Coral Reefs" of our Forests
DESCRIPTION:\nFrom frozen frogs to floating fairies and fragile fingernail 
 clams\, hike with Master Naturalist Doug Jackson who will share the wonder
 s of our enchanted woodland pools. Explore and learn about the fascinating
  creatures that inhabit these pools and find out how you can participate i
 n a statewide program collecting data about them. \n\n\n\nThe hike include
 s a short moderate hike on and off trail. Sturdy shoes and long pants are 
 highly advised. \n\n\n\nBug sprays and lotions are prohibited because of t
 he sensitive fauna. \n\n\n\nCost: $2/person or $5/family. \n\n\n\nPlease r
 egister for this program by emailing waterloonha@gmail.com with your name\
 , phone number and number of people attending. ***Program limited to 30 pa
 rticipants.***\n\n\n\n\n
CATEGORIES:Animals,Arbor Annie's Highlights,Elementary,High
 Schoolers,Hikes/Walks,History,Middle Schoolers,Nature,Outdoor
LOCATION:Eddy Discovery Center\, 17030 Bush Rd\, Chelsea\, Michigan\, 48118
 \, Chelsea\, United States
GEO:42.3298572;-84.08067299999999
X-APPLE-STRUCTURED-LOCATION;VALUE=URI;X-ADDRESS=17030 Bush Rd\, Chelsea\, M
 ichigan\, 48118\, Chelsea\, United States;X-APPLE-RADIUS=100;X-TITLE=Eddy 
 Discovery Center:geo:42.3298572,-84.08067299999999
END:VEVENT
BEGIN:VTIMEZONE
TZID:America/Detroit
X-LIC-LOCATION:America/Detroit
BEGIN:DAYLIGHT
DTSTART:20260308T030000
TZOFFSETFROM:-0500
TZOFFSETTO:-0400
TZNAME:EDT
END:DAYLIGHT
END:VTIMEZONE
END:VCALENDAR