BEGIN:VCALENDAR
VERSION:2.0
PRODID:-//wp-events-plugin.com//7.2.3.1//EN
TZID:America/Detroit
X-WR-TIMEZONE:America/Detroit
BEGIN:VEVENT
UID:92602@annarborwithkids.com
DTSTART;TZID=America/Detroit:20260329T130000
DTEND;TZID=America/Detroit:20260329T163000
DTSTAMP:20260219T191735Z
URL:https://annarborwithkids.com/events/hand-sewing-marathon-adorable-felt
 -donuts-2/
SUMMARY:Hand Sewing Marathon: Adorable Felt Donuts
DESCRIPTION:\nJoin AADL for an all-afternoon hand sewing event! Sit back\, 
 relax and learn how to make an adorable toy donut. Staff will provide easy
  step-by-step instructions.\n\n\n\nThis event involves sharp sewing needle
 s. It's perfect for adults with any level of skill\, but young children ma
 y struggle with this. AADL staff will be on hand to help beginners\, but e
 xperts are welcome\, too!\n\n\n\n\n\nFor teens &amp\; adults.\n
CATEGORIES:Arbor Annie's Highlights,Crafts,Fiber Arts,Free,High
 Schoolers,Indoor Activities,Middle Schoolers,Parents
LOCATION:Malletts Creek Branch Library\, 3090 E Eisenhower Parkway\, Ann Ar
 bor\, Michigan\, 48108\, South\, United States
GEO:42.2436533;-83.71799220000003
X-APPLE-STRUCTURED-LOCATION;VALUE=URI;X-ADDRESS=3090 E Eisenhower Parkway\,
  Ann Arbor\, Michigan\, 48108\, South\, United States;X-APPLE-RADIUS=100;X
 -TITLE=Malletts Creek Branch Library:geo:42.2436533,-83.71799220000003
END:VEVENT
BEGIN:VTIMEZONE
TZID:America/Detroit
X-LIC-LOCATION:America/Detroit
BEGIN:DAYLIGHT
DTSTART:20260308T030000
TZOFFSETFROM:-0500
TZOFFSETTO:-0400
TZNAME:EDT
END:DAYLIGHT
END:VTIMEZONE
END:VCALENDAR