BEGIN:VCALENDAR
VERSION:2.0
PRODID:-//wp-events-plugin.com//7.2.3.1//EN
TZID:America/Detroit
X-WR-TIMEZONE:America/Detroit
BEGIN:VEVENT
UID:93222@annarborwithkids.com
DTSTART;TZID=America/Detroit:20260417T170000
DTEND;TZID=America/Detroit:20260417T193000
DTSTAMP:20260323T180714Z
URL:https://annarborwithkids.com/events/hand-painting-fabric-with-botanica
 l-dyes/
SUMMARY:Hand Painting Fabric with Botanical Dyes
DESCRIPTION:\nMeghan Navoy from Rosemarine Textiles will lead this workshop
  in hand dyeing with botanical dyes. This hand painting technique is a gre
 at way to show off the beauty of botanical colors.\n\n\n\nFor teens &amp\;
  adults. Held in Secret Lab.\n\n\n
CATEGORIES:Arbor Annie's Highlights,Crafts,Free,High Schoolers,Indoor
 Activities,Parents
LOCATION:Downtown Branch of AADL\, 343 South Fifth Avenue\, Ann Arbor\, Mic
 higan\, 48104\, Downtown\, United States
GEO:42.278198;-83.745971
X-APPLE-STRUCTURED-LOCATION;VALUE=URI;X-ADDRESS=343 South Fifth Avenue\, An
 n Arbor\, Michigan\, 48104\, Downtown\, United States;X-APPLE-RADIUS=100;X
 -TITLE=Downtown Branch of AADL:geo:42.278198,-83.745971
END:VEVENT
BEGIN:VTIMEZONE
TZID:America/Detroit
X-LIC-LOCATION:America/Detroit
BEGIN:DAYLIGHT
DTSTART:20260308T030000
TZOFFSETFROM:-0500
TZOFFSETTO:-0400
TZNAME:EDT
END:DAYLIGHT
END:VTIMEZONE
END:VCALENDAR