BEGIN:VCALENDAR
VERSION:2.0
PRODID:-//wp-events-plugin.com//7.2.3.1//EN
TZID:America/Detroit
X-WR-TIMEZONE:America/Detroit
BEGIN:VEVENT
UID:59249@annarborwithkids.com
DTSTART;TZID=America/Detroit:20201031T163000
DTEND;TZID=America/Detroit:20201031T173000
DTSTAMP:20201022T210326Z
URL:https://annarborwithkids.com/events/halloweenhome/
SUMMARY:Halloween@Home
DESCRIPTION:\nThe UM Museum of Natural History is hosting a Halloween@Home 
 Spooky Science Webinar.\n\n\n\nIt's not quite the same as their traditiona
 l Halloween party\, but I am glad to see them hosting a Halloween event af
 ter 2 years off.\n\n\n\nThey're also holding a Costume Contest.\n\n\n\nGet
  more details on Halloween with the UM Museum of Natural History\n\n\n\n\n
CATEGORIES:Advance Registration,Arbor Annie's
 Highlights,Elementary,Free,Halloween,High Schoolers,Indoor
 Activities,Middle Schoolers,Parents,Preschoolers,STEM,Virtual
END:VEVENT
BEGIN:VTIMEZONE
TZID:America/Detroit
X-LIC-LOCATION:America/Detroit
BEGIN:DAYLIGHT
DTSTART:20200308T030000
TZOFFSETFROM:-0500
TZOFFSETTO:-0400
TZNAME:EDT
END:DAYLIGHT
END:VTIMEZONE
END:VCALENDAR