BEGIN:VCALENDAR
VERSION:2.0
PRODID:-//wp-events-plugin.com//7.2.3.1//EN
TZID:America/Detroit
X-WR-TIMEZONE:America/Detroit
BEGIN:VEVENT
UID:66373@annarborwithkids.com
DTSTART;TZID=America/Detroit:20251026T170000
DTEND;TZID=America/Detroit:20251026T190000
DTSTAMP:20251009T171812Z
URL:https://annarborwithkids.com/events/halloween-trunk-treat-westside-chu
 rch/
SUMMARY:Halloween Trunk or Treat
DESCRIPTION:\nWest Side Church is holding a Halloween Trunk or Treat on Oct
 ober 26 from 5-7p.\n\n\n\nAll are welcome. There will be treats\, bounce h
 ouses\, and lawn games.\n\n\n\n\n\n\n\n\n
CATEGORIES:Arbor Annie's Highlights,Elementary,Food,Halloween,Middle
 Schoolers,Outdoor,Parents,Preschoolers,Toddler,Trick or Treat
LOCATION:Westside United Methodist Church\, 900 S. Seventh Street\, Ann Arb
 or\, Michigan\, 48103\, West Ann Arbor\, United States
GEO:42.2701502;-83.75922300000002
X-APPLE-STRUCTURED-LOCATION;VALUE=URI;X-ADDRESS=900 S. Seventh Street\, Ann
  Arbor\, Michigan\, 48103\, West Ann Arbor\, United States;X-APPLE-RADIUS=
 100;X-TITLE=Westside United Methodist Church:geo:42.2701502,-83.7592230000
 0002
END:VEVENT
BEGIN:VTIMEZONE
TZID:America/Detroit
X-LIC-LOCATION:America/Detroit
BEGIN:DAYLIGHT
DTSTART:20250309T030000
TZOFFSETFROM:-0500
TZOFFSETTO:-0400
TZNAME:EDT
END:DAYLIGHT
END:VTIMEZONE
END:VCALENDAR