BEGIN:VCALENDAR
VERSION:2.0
PRODID:-//wp-events-plugin.com//7.2.3.1//EN
TZID:America/Detroit
X-WR-TIMEZONE:America/Detroit
BEGIN:VEVENT
UID:74929@annarborwithkids.com
DTSTART;TZID=America/Detroit:20241029T100000
DTEND;TZID=America/Detroit:20241029T103000
DTSTAMP:20241017T221508Z
URL:https://annarborwithkids.com/events/halloween-storytime/
SUMMARY:Halloween Storytime
DESCRIPTION:\nWear a costume for this special Halloween storytime. Listen t
 o not-so-spooky stories\, songs\, rhymes\, and show off your costume.\n\n\
 n\nFor ages 2-7. Registration required.\n\n\n\nThe event will happen at th
 e 109 Cultural exchange instead of the Saline District Library.\n\n\n\n\n\
 n\n\n\n\n\n\n\n
CATEGORIES:Advance Registration,Arbor Annie's
 Highlights,Babies,Elementary,Free,Halloween,Indoor
 Activities,Preschoolers,Sold Out,Storytime,Toddler
LOCATION:109 Cultural Exchange\, 109 West Michigan Avenue\, Saline\, Michig
 an\, 48176\, United States
GEO:42.166241;-83.781625
X-APPLE-STRUCTURED-LOCATION;VALUE=URI;X-ADDRESS=109 West Michigan Avenue\, 
 Saline\, Michigan\, 48176\, United States;X-APPLE-RADIUS=100;X-TITLE=109 C
 ultural Exchange:geo:42.166241,-83.781625
END:VEVENT
BEGIN:VTIMEZONE
TZID:America/Detroit
X-LIC-LOCATION:America/Detroit
BEGIN:DAYLIGHT
DTSTART:20240310T030000
TZOFFSETFROM:-0500
TZOFFSETTO:-0400
TZNAME:EDT
END:DAYLIGHT
END:VTIMEZONE
END:VCALENDAR