BEGIN:VCALENDAR
VERSION:2.0
PRODID:-//wp-events-plugin.com//7.2.3.1//EN
TZID:America/Detroit
X-WR-TIMEZONE:America/Detroit
BEGIN:VEVENT
UID:22060@annarborwithkids.com
DTSTART;TZID=America/Detroit:20201031T100000
DTEND;TZID=America/Detroit:20201031T160000
DTSTAMP:20201010T051509Z
URL:https://annarborwithkids.com/events/halloween-spooktacular-3/
SUMMARY:Halloween Spooktacular
DESCRIPTION:\nJoin the Yankee Air Museum for a special Halloween Spooktacul
 ar redesigned to offer more social distance.\n\n\n\nStart at the Air Adven
 tures Hangar to explore the Historic Flying Aircraft and visit candy stati
 ons\, take pictures\, and tour the C47 Hairless Joe. Then visit the museum
  for more candy stations\, a goodie bag\, and an activity to take home.\n\
 n\n\nYou'll sign up for a timed entry at 10a\, noon\, or 2p and will have 
 access to one hour at the Hanger and 1 hour at the Museum. \n\n\n\nEach to
 ur time is limited to 75 people.\n\n\n\nThis would have been a great event
  5 years ago when she dressed as the American Girl Molly who lived during 
 World War II.\n\n\n\nCheck out our review of Yankee Air Museum.\n\n\n\n\n
CATEGORIES:Arbor Annie's Highlights,Elementary,Fall Fun,Halloween,High
 Schoolers,Middle Schoolers,Preschoolers
LOCATION:Michigan Flight Museum\, 47884 D Street\, Belleville\, Michigan\, 
 48111\, Belleville\, United States
GEO:42.23568;-83.513124
X-APPLE-STRUCTURED-LOCATION;VALUE=URI;X-ADDRESS=47884 D Street\, Belleville
 \, Michigan\, 48111\, Belleville\, United States;X-APPLE-RADIUS=100;X-TITL
 E=Michigan Flight Museum:geo:42.23568,-83.513124
END:VEVENT
BEGIN:VTIMEZONE
TZID:America/Detroit
X-LIC-LOCATION:America/Detroit
BEGIN:DAYLIGHT
DTSTART:20200308T030000
TZOFFSETFROM:-0500
TZOFFSETTO:-0400
TZNAME:EDT
END:DAYLIGHT
END:VTIMEZONE
END:VCALENDAR