BEGIN:VCALENDAR
VERSION:2.0
PRODID:-//wp-events-plugin.com//7.2.3.1//EN
TZID:America/Detroit
X-WR-TIMEZONE:America/Detroit
BEGIN:VEVENT
UID:80089@annarborwithkids.com
DTSTART;TZID=America/Detroit:20241004T110000
DTEND;TZID=America/Detroit:20241004T120000
DTSTAMP:20251001T134127Z
URL:https://annarborwithkids.com/events/halloween-sensory-bottles-2/
SUMMARY:Halloween Sensory Bottles
DESCRIPTION:\nMake a not-so-Spooky Halloween-themed sensory bottle\n\n\n\nF
 or preschool-Grade 2.\n\n\n\n\n\n\n
CATEGORIES:Arbor Annie's
 Highlights,Crafts,Elementary,Free,Halloween,Indoor Activities,Preschoolers
LOCATION:Pittsfield Branch Library\, 2359 Oak Valley Dr\, Ann Arbor\, Michi
 gan\, 48103\, Pittsfield\, United States
GEO:42.2526001;-83.77801540000002
X-APPLE-STRUCTURED-LOCATION;VALUE=URI;X-ADDRESS=2359 Oak Valley Dr\, Ann Ar
 bor\, Michigan\, 48103\, Pittsfield\, United States;X-APPLE-RADIUS=100;X-T
 ITLE=Pittsfield Branch Library:geo:42.2526001,-83.77801540000002
END:VEVENT
BEGIN:VTIMEZONE
TZID:America/Detroit
X-LIC-LOCATION:America/Detroit
BEGIN:DAYLIGHT
DTSTART:20240310T030000
TZOFFSETFROM:-0500
TZOFFSETTO:-0400
TZNAME:EDT
END:DAYLIGHT
END:VTIMEZONE
END:VCALENDAR