BEGIN:VCALENDAR
VERSION:2.0
PRODID:-//wp-events-plugin.com//7.2.3.1//EN
TZID:America/Detroit
X-WR-TIMEZONE:America/Detroit
BEGIN:VEVENT
UID:89899@annarborwithkids.com
DTSTART;TZID=America/Detroit:20251031T173000
DTEND;TZID=America/Detroit:20251031T190000
DTSTAMP:20251001T212424Z
URL:https://annarborwithkids.com/events/halloween-rest-stop/
SUMMARY:Halloween Rest Stop
DESCRIPTION:\nChelsea First UMC hosts a Halloween Rest Stop during Trick or
  Treat hours.\n\n\n\nStop by for candy\, warmth\, and food. They'll have\n
 \n\n\n\nHot dogs\, chips\, &amp\; candy for the kids\n\n\n\nWater for ever
 yone\n\n\n\nRestrooms for all\n\n\n\nA dry\, warm place to regroup\n\n\n\n
 \n\n\n\n\n\n
CATEGORIES:Arbor Annie's Highlights,Elementary,Free,Halloween,Middle
 Schoolers,Parents,Preschoolers,Toddler,Trick or Treat
LOCATION:Chelsea First United Methodist Church\, 128 Park Street\, Chelsea\
 , Michigan\, 48118\, Chelsea\, United States
GEO:42.3169364;-84.01896149999999
X-APPLE-STRUCTURED-LOCATION;VALUE=URI;X-ADDRESS=128 Park Street\, Chelsea\,
  Michigan\, 48118\, Chelsea\, United States;X-APPLE-RADIUS=100;X-TITLE=Che
 lsea First United Methodist Church:geo:42.3169364,-84.01896149999999
END:VEVENT
BEGIN:VTIMEZONE
TZID:America/Detroit
X-LIC-LOCATION:America/Detroit
BEGIN:DAYLIGHT
DTSTART:20250309T030000
TZOFFSETFROM:-0500
TZOFFSETTO:-0400
TZNAME:EDT
END:DAYLIGHT
END:VTIMEZONE
END:VCALENDAR