BEGIN:VCALENDAR
VERSION:2.0
PRODID:-//wp-events-plugin.com//7.2.3.1//EN
TZID:America/Detroit
X-WR-TIMEZONE:America/Detroit
BEGIN:VEVENT
UID:33524@annarborwithkids.com
DTSTART;TZID=America/Detroit:20251031T113000
DTEND;TZID=America/Detroit:20251031T120000
DTSTAMP:20250923T190325Z
URL:https://annarborwithkids.com/events/halloween-party-11/
SUMMARY:The Halloween Show!
DESCRIPTION:\nJoin AADL storytellers for a fun Halloween-themed show with s
 tories\, puppets\, songs\, and rhymes! Wear your costumes and gather treat
 s afterward.\n\n\n\nThere are two shows with the first event at 10:30a. \n
 \n\n\nThe Halloween show will be in the first floor lobby. For preschool-G
 rade 3\n\n\n\n\n
CATEGORIES:Arbor Annie's Highlights,Babies,Free,Halloween,Indoor
 Activities,Preschoolers,Storytime,Toddler
LOCATION:Downtown Branch of AADL\, 343 South Fifth Avenue\, Ann Arbor\, Mic
 higan\, 48104\, Downtown\, United States
GEO:42.278198;-83.745971
X-APPLE-STRUCTURED-LOCATION;VALUE=URI;X-ADDRESS=343 South Fifth Avenue\, An
 n Arbor\, Michigan\, 48104\, Downtown\, United States;X-APPLE-RADIUS=100;X
 -TITLE=Downtown Branch of AADL:geo:42.278198,-83.745971
END:VEVENT
BEGIN:VTIMEZONE
TZID:America/Detroit
X-LIC-LOCATION:America/Detroit
BEGIN:DAYLIGHT
DTSTART:20250309T030000
TZOFFSETFROM:-0500
TZOFFSETTO:-0400
TZNAME:EDT
END:DAYLIGHT
END:VTIMEZONE
END:VCALENDAR