BEGIN:VCALENDAR
VERSION:2.0
PRODID:-//wp-events-plugin.com//7.2.3.1//EN
TZID:America/Detroit
X-WR-TIMEZONE:America/Detroit
BEGIN:VEVENT
UID:66863@annarborwithkids.com
DTSTART;TZID=America/Detroit:20251026T150000
DTEND;TZID=America/Detroit:20251026T170000
DTSTAMP:20251023T201517Z
URL:https://annarborwithkids.com/events/halloween-parade-spooky-fun/
SUMMARY:Treats &amp\; Strolls
DESCRIPTION:\nJoin the Halloween Parade and Spooky Fun at Kerrytown Market 
 &amp\; Shops. Meet in the Kerrytown Courtyard to join the parade at 3:30p.
  The aprade will exit between Found and Sweetwaters and head around the bl
 ock (no streets will be crossed). \n\n\n\nThe first and second floor shops
  will be handing out treats before &amp\; after the parade.\n\n\n\nThere w
 ill be crafts after the parade in the common area (inside) between Spun &a
 mp\; Malofta. Make Ghost Garlands &amp\; Spooky Bookmarks\n\n\n\nJoin Stor
 ytime with Frankenwalnut at 4:15p at Mudpuddles.\n\n\n\n\n\n\n\n\n
CATEGORIES:Arbor Annie's
 Highlights,Babies,Crafts,Elementary,Free,Halloween,Parade,Parents,Preschoo
 lers,Storytime,Toddler,Trick or Treat
LOCATION:Kerrytown Market & Shops\, 407 N. Fifth Avenue\, Ann Arbor\, Michi
 gan\, 48104\, Kerrytown\, United States
GEO:42.2843336;-83.74610860000001
X-APPLE-STRUCTURED-LOCATION;VALUE=URI;X-ADDRESS=407 N. Fifth Avenue\, Ann A
 rbor\, Michigan\, 48104\, Kerrytown\, United States;X-APPLE-RADIUS=100;X-T
 ITLE=Kerrytown Market & Shops:geo:42.2843336,-83.74610860000001
END:VEVENT
BEGIN:VTIMEZONE
TZID:America/Detroit
X-LIC-LOCATION:America/Detroit
BEGIN:DAYLIGHT
DTSTART:20250309T030000
TZOFFSETFROM:-0500
TZOFFSETTO:-0400
TZNAME:EDT
END:DAYLIGHT
END:VTIMEZONE
END:VCALENDAR