BEGIN:VCALENDAR
VERSION:2.0
PRODID:-//wp-events-plugin.com//7.2.3.1//EN
TZID:America/Detroit
X-WR-TIMEZONE:America/Detroit
BEGIN:VEVENT
UID:90187@annarborwithkids.com
DTSTART;TZID=America/Detroit:20251031T160000
DTEND;TZID=America/Detroit:20251031T220000
DTSTAMP:20251028T023542Z
URL:https://annarborwithkids.com/events/halloween-on-the-yard/
SUMMARY:Halloween on the Yard
DESCRIPTION:\nThe Dixboro Project is holding Halloween on The Yard.\n\n\n\n
 From 4-7:30p\, The Yard will be transformed into a Halloween wonderland fo
 r kids and families with festive activity stations.\n\n\n\nThe Outpost wil
 l be the hub for seasonal treats - hot &amp\; cold spiced (option for spik
 ed) cider\, donuts\, vegan chili\, wagyu hot dogs\, Cocktails &amp\; more.
 \n\n\n\nThere will be a Costume Contest at 8p\n\n\n\n\n\n\n
CATEGORIES:Arbor Annie's
 Highlights,Elementary,Food,Halloween,Outdoor,Parents,Preschoolers,Toddler
LOCATION:Dixboro Project\, 5400 Plymouth Rd\, Ann Arbor\, Michigan\, 48105\
 , United States
GEO:42.312078;-83.65167
X-APPLE-STRUCTURED-LOCATION;VALUE=URI;X-ADDRESS=5400 Plymouth Rd\, Ann Arbo
 r\, Michigan\, 48105\, United States;X-APPLE-RADIUS=100;X-TITLE=Dixboro Pr
 oject:geo:42.312078,-83.65167
END:VEVENT
BEGIN:VTIMEZONE
TZID:America/Detroit
X-LIC-LOCATION:America/Detroit
BEGIN:DAYLIGHT
DTSTART:20250309T030000
TZOFFSETFROM:-0500
TZOFFSETTO:-0400
TZNAME:EDT
END:DAYLIGHT
END:VTIMEZONE
END:VCALENDAR