BEGIN:VCALENDAR
VERSION:2.0
PRODID:-//wp-events-plugin.com//7.2.3.1//EN
TZID:America/Detroit
X-WR-TIMEZONE:America/Detroit
BEGIN:VEVENT
UID:90203@annarborwithkids.com
DTSTART;TZID=America/Detroit:20251025T140000
DTEND;TZID=America/Detroit:20251025T170000
DTSTAMP:20251024T010235Z
URL:https://annarborwithkids.com/events/halloween-on-the-village-green/
SUMMARY:Halloween on the Village Green
DESCRIPTION:\nHead to Historic Webster Village for Halloween on the Village
  Green.\n\n\n\nDecorate your trick-or-treat bag and collect treats at the 
 Village buildings. Event will conclude at 5he Kleinschmidt General Store w
 ith cider and donuts\n\n\n\n\n\n\n
CATEGORIES:Arbor Annie's
 Highlights,Elementary,Food,Halloween,Parents,Preschoolers,Toddler,Trick or
 Treat
LOCATION:Webster Corners\, 5484 Webster Church Rd\, Dexter\, Michigan\, 481
 30\, Dexter\, United States
GEO:42.362264;-83.822136
X-APPLE-STRUCTURED-LOCATION;VALUE=URI;X-ADDRESS=5484 Webster Church Rd\, De
 xter\, Michigan\, 48130\, Dexter\, United States;X-APPLE-RADIUS=100;X-TITL
 E=Webster Corners:geo:42.362264,-83.822136
END:VEVENT
BEGIN:VTIMEZONE
TZID:America/Detroit
X-LIC-LOCATION:America/Detroit
BEGIN:DAYLIGHT
DTSTART:20250309T030000
TZOFFSETFROM:-0500
TZOFFSETTO:-0400
TZNAME:EDT
END:DAYLIGHT
END:VTIMEZONE
END:VCALENDAR