BEGIN:VCALENDAR
VERSION:2.0
PRODID:-//wp-events-plugin.com//7.2.3.1//EN
TZID:America/Detroit
X-WR-TIMEZONE:America/Detroit
BEGIN:VEVENT
UID:89269@annarborwithkids.com
DTSTART;TZID=America/Detroit:20251017T180000
DTEND;TZID=America/Detroit:20251017T220000
DTSTAMP:20250910T151906Z
URL:https://annarborwithkids.com/events/halloween-greenfield-village-2025-
 10-17/
SUMMARY:Hallowe'en in Greenfield Village
DESCRIPTION:\nCelebrate an old-fashioned Hallowe'en at Greenfield Village -
  now in it's 45th season.\n\n\n\nStep into a world of enchantment and imag
 ination at Hallowe'en in Greenfield Village — Michigan's premier outdoor
  October celebration\, showcased in the bewitching setting of the village 
 after hours.\n\n\n\nFrom lantern-lit streets and glowing jack-o'-lantern p
 aths to shadowy historic homes and spellbinding tales\, bring your family 
 and friends for an evening where autumn lore mingles with things that go b
 ump in the night.\n\n\n\nEncounter more than 50 costumed characters — fr
 om the Headless Horseman and the Grim Reaper to Alice in Wonderland\, Pete
 r Pan and other childhood hallmarks — alongside dramatic literary vignet
 tes\, live musical performances\, fall treats and village-wide lighting an
 d sound effects that grow spookier as twilight falls.\n\n\n\nDrawing from 
 centuries of harvest customs\, Hallowe'en in Greenfield Village blends the
  spirited charm of 18th- and 19th-century traditions with the wonder\, mag
 ic and mischief of the season. Designed to delight visitors of all ages\, 
 this one-of-a-kind program conjures a memory-making evening for all.\n\n\n
 \n\n\nEnhance your visit with add-on experiences like the Hallowe'en Expre
 ss — a fan-favorite train ride that winds along a ghoulish and surprisin
 g journey through Greenfield Village ($5/person). Or indulge in seasonal d
 ining packages like Hallowe'en Fairy Tale Feast\, Eagle Tavern Harvest Sup
 per\, and new this year for guests 21 and older — All Hallows Dinner at 
 Stand 44.\n\n\n\nHarvest-themed activities from the 18th and 19th centurie
 s are included in the program's daytime hours for a family-friendly fall a
 tmosphere that transitions to traditional Hallowe’en spookiness as twili
 ght falls.\n\n\n\nA must-see addition to your evening\, the Hallowe’en E
 xpress will return to its haunted tracks by popular demand\, taking riders
  along a ghoulish and surprising journey through Greenfield Village. Timed
  tickets for the Hallowe’en Express are available to purchase online for
  an additional $4/person\n\n\n\n\n\nCostumes are encouraged. But\, trick o
 r treating is no longer part of the experience.\n\n\n\nThe event includes:
  \n\n\n\n\nMore than 50 costumed characters like the Grim Reaper\, Alice i
 n Wonderland\, Peter Pan and more\n\n\n\nDramatic vignettes from The Wiza
 rd of Oz\, The Legend of Sleepy Hollow\, The Tell-Tale Heart\, Jack and th
 e Beanstalk and more\n\n\n\nImaginative storybook experiences from Alice
 ’s Adventures in Wonderland and Peter Pan\n\n\n\nMenlo Park screening 
 of 1910 film Frankenstein with live character interactions\n\n\n\nVillag
 e-wide theming with special lighting and sound effects\, including illumin
 ated jack-o'-lantern paths\n\n\n\nLive music in Detroit Central Market and
  Town Hall\n\n\n\nFree horse-drawn wagon and Herschell-Spillman carousel r
 ides\n\n\n\nFall treats\, hot beverages and craft beer available for purch
 ase\n\n\n\nUPDATED in 2025! 1950/'60s Hallowe'en Hop at Town Hall with We
 rewolf DJ &amp\; Zombie Teenagers\n\n\n\n\nWe've&nbsp\;attended Hallowe'en
  in Greenfield Village several times under the old format- 2011\, 2012\, 2
 013\,&nbsp\;2015\, and 2016.\n\n\n\nTickets are already on sale for member
 s. Tickets for the general public go on sale at 8a September 4.\n\n\n\n\n$
 36/adult (12-61)\n\n\n\nSenior (62+) - Save 10% on adult ticket ($32.40\n\
 n\n\n$27/youth (2-11)\n\n\n\nChildren under 2 years are admitted free of c
 harge. \n\n\n\n\nHallowe'en at Greenfield Village Schedule\n\n\n\n[events_
 list search="Hallowe'en" scope="2025-10-01\,2025-10-31"][/events_list]\n\n
 \n\n\n
ATTACH;FMTTYPE=image/jpeg:https://annarborwithkids.com/wp-content/uploads/
 2016/10/greenfield-village-halloween-day-of-the-dead.jpg
CATEGORIES:Advance Registration,Arbor Annie's
 Highlights,Elementary,Halloween,High Schoolers,Middle
 Schoolers,Outdoor,Parents,Preschoolers,Registration Required,Sold
 Out,Toddler
LOCATION:Henry Ford Museum\, 20900 Oakwood Blvd\, Dearborn\, Michigan\, 481
 24\, Dearborn\, United States
GEO:42.3026973;-83.23508770000001
X-APPLE-STRUCTURED-LOCATION;VALUE=URI;X-ADDRESS=20900 Oakwood Blvd\, Dearbo
 rn\, Michigan\, 48124\, Dearborn\, United States;X-APPLE-RADIUS=100;X-TITL
 E=Henry Ford Museum:geo:42.3026973,-83.23508770000001
END:VEVENT
BEGIN:VTIMEZONE
TZID:America/Detroit
X-LIC-LOCATION:America/Detroit
BEGIN:DAYLIGHT
DTSTART:20250309T030000
TZOFFSETFROM:-0500
TZOFFSETTO:-0400
TZNAME:EDT
END:DAYLIGHT
END:VTIMEZONE
END:VCALENDAR