BEGIN:VCALENDAR
VERSION:2.0
PRODID:-//wp-events-plugin.com//7.2.3.1//EN
TZID:America/Detroit
X-WR-TIMEZONE:America/Detroit
BEGIN:VEVENT
UID:89888@annarborwithkids.com
DTSTART;TZID=America/Detroit:20251026T100000
DTEND;TZID=America/Detroit:20251026T150000
DTSTAMP:20251001T135911Z
URL:https://annarborwithkids.com/events/halloween-fun-on-the-farm-2025-10-
 26/
SUMMARY:Halloween Fun On The Farm
DESCRIPTION:\nJoin Carousel Acres for Halloween Fun on the Farm. It is held
  every Friday and Saturday in October from 10a-3p\n\n\n\nThere will be tri
 ck or treating\, petting farm\, pony rides\, music and more.\n\n\n\nNote -
  children must be wearing a costume to participate in trick or treating. I
  hope they are very lenient on what constitutes a costume.\n\n\n\n\nhttps:
 //www.facebook.com/carouselacres/posts/pfbid02tS4MkzxhnB7RhgGQUUjmLgjx9AB1
 Tw8p9KDfV66EUNA5bW1MdQ9X3uQ8Mp6iVdcFl\n\n\n\n\nAdmission is $10/person ove
 r Babies under the age of 1 are free. Pony rides are $8.\n\n\n\n\n\n\n\n\n
CATEGORIES:Advance Registration,Animals,Arbor Annie's
 Highlights,Elementary,Food,Halloween,Outdoor,Preschoolers,Toddler,Trick or
 Treat
LOCATION:Carousel Acres\, 12749 9 Mile Rd\, South Lyon\, Michigan\, 48178\,
  South Lyon\, United States
GEO:42.4456445;-83.6904204
X-APPLE-STRUCTURED-LOCATION;VALUE=URI;X-ADDRESS=12749 9 Mile Rd\, South Lyo
 n\, Michigan\, 48178\, South Lyon\, United States;X-APPLE-RADIUS=100;X-TIT
 LE=Carousel Acres:geo:42.4456445,-83.6904204
END:VEVENT
BEGIN:VTIMEZONE
TZID:America/Detroit
X-LIC-LOCATION:America/Detroit
BEGIN:DAYLIGHT
DTSTART:20250309T030000
TZOFFSETFROM:-0500
TZOFFSETTO:-0400
TZNAME:EDT
END:DAYLIGHT
END:VTIMEZONE
END:VCALENDAR