BEGIN:VCALENDAR
VERSION:2.0
PRODID:-//wp-events-plugin.com//7.2.3.1//EN
TZID:America/Detroit
X-WR-TIMEZONE:America/Detroit
BEGIN:VEVENT
UID:59247@annarborwithkids.com
DTSTART;TZID=America/Detroit:20201031T210000
DTEND;TZID=America/Detroit:20201031T230000
DTSTAMP:20201021T145452Z
URL:https://annarborwithkids.com/events/halloween-drive-in-movie-middle-sc
 hool-high-school-movie/
SUMMARY:Halloween Drive-In-Movie - Middle School/High School Movie
DESCRIPTION:\nZion Lutheran Church is holding Halloween Drive-In Movie nigh
 t - a fun way to celebrate halloween while maintaining social distance.\n\
 n\n\nThey will shows on both Friday\, October 30 and Saturday\, October 31
 . Both nights will have a children/family movie at 7p and a middle/high sc
 hool movie at 9p\n
CATEGORIES:Halloween,High Schoolers,Middle Schoolers,Movies,Parents
LOCATION:Zion Lutheran Church\, 1501 W. Liberty St\, Ann Arbor\, Michigan\,
  48103\, West\, United States
GEO:42.276301;-83.76646169999998
X-APPLE-STRUCTURED-LOCATION;VALUE=URI;X-ADDRESS=1501 W. Liberty St\, Ann Ar
 bor\, Michigan\, 48103\, West\, United States;X-APPLE-RADIUS=100;X-TITLE=Z
 ion Lutheran Church:geo:42.276301,-83.76646169999998
END:VEVENT
BEGIN:VTIMEZONE
TZID:America/Detroit
X-LIC-LOCATION:America/Detroit
BEGIN:DAYLIGHT
DTSTART:20200308T030000
TZOFFSETFROM:-0500
TZOFFSETTO:-0400
TZNAME:EDT
END:DAYLIGHT
END:VTIMEZONE
END:VCALENDAR