BEGIN:VCALENDAR
VERSION:2.0
PRODID:-//wp-events-plugin.com//7.2.3.1//EN
TZID:America/Detroit
X-WR-TIMEZONE:America/Detroit
BEGIN:VEVENT
UID:59240@annarborwithkids.com
DTSTART;TZID=America/Detroit:20201031T160000
DTEND;TZID=America/Detroit:20201031T180000
DTSTAMP:20201020T180136Z
URL:https://annarborwithkids.com/events/halloween-drive-2/
SUMMARY:Halloween Drive
DESCRIPTION:\nAnn Arbor Civic Theatre &amp\; Dexter Community Players are h
 osting Halloween Drive at The Petting Farm at Domino's Farm.\n\n\n\nYou'll
  drive through the Petting Farm from the social distance safety of your ow
 n car. There will be three spooky theatrical scenes to stop at and some Ha
 lloween decor and more in between.\n\n\n\nHalloween Scenes:\n\n\n\nThe Bit
 ter &amp\; The SweetInvasion HalloweenThe Dance of Death\n\n\n\nYour drive
 -thru experience will last about 30 minutes. Tickets are available every h
 alf-hour\n
CATEGORIES:Advance Registration,Arbor Annie's
 Highlights,Elementary,Halloween,High Schoolers,Middle
 Schoolers,Parents,Theater
LOCATION:The Petting Farm at Domino's Farms\, 3001 Earhart\, Ann Arbor\, MI
 \, 48106\, United States
GEO:42.323377;-83.680252
X-APPLE-STRUCTURED-LOCATION;VALUE=URI;X-ADDRESS=3001 Earhart\, Ann Arbor\, 
 MI\, 48106\, United States;X-APPLE-RADIUS=100;X-TITLE=The Petting Farm at 
 Domino's Farms:geo:42.323377,-83.680252
END:VEVENT
BEGIN:VTIMEZONE
TZID:America/Detroit
X-LIC-LOCATION:America/Detroit
BEGIN:DAYLIGHT
DTSTART:20200308T030000
TZOFFSETFROM:-0500
TZOFFSETTO:-0400
TZNAME:EDT
END:DAYLIGHT
END:VTIMEZONE
END:VCALENDAR