BEGIN:VCALENDAR
VERSION:2.0
PRODID:-//wp-events-plugin.com//7.2.3.1//EN
TZID:America/Detroit
X-WR-TIMEZONE:America/Detroit
BEGIN:VEVENT
UID:22574@annarborwithkids.com
DTSTART;TZID=America/Detroit:20251024T173000
DTEND;TZID=America/Detroit:20251024T190000
DTSTAMP:20250905T210832Z
URL:https://annarborwithkids.com/events/halloween-downtown-2/
SUMMARY:Halloween Downtown
DESCRIPTION:\nJoin YDL for a spook-tacular time at YDL-Michigan! Trick or t
 reat in the Library Plaza and parking lot\, meet and engage with local com
 munity organizations\, and check out the BOO-kmobile! The costume contest 
 is back this year with prizes for the winners\, and Ypsilanti Kiwanis will
  host a game station where you could win a free book.\n\n\n\nThis event is
  sponsored by Ypsi Real and the Ypsilanti Downtown Development Authority\n
 \n\n\n\n\nWhy not have dinner while you're in Ypsilanti. Check out our are
 a Restaurant &amp\; Activity Reviews\n\n\n\n\n\n\n\n\n
CATEGORIES:Age Range,Arbor Annie's
 Highlights,Babies,Elementary,Free,Halloween,High Schoolers,Middle
 Schoolers,Outdoor,Parents,Preschoolers,Toddler,Trick or Treat
LOCATION:Ypsilanti District Library - Michigan Ave Branch\, 229 West Michig
 an Avenue\, Ypsilanti\, Michigan\, 48197\, Ypsilanti\, United States
GEO:42.240746;-83.61565
X-APPLE-STRUCTURED-LOCATION;VALUE=URI;X-ADDRESS=229 West Michigan Avenue\, 
 Ypsilanti\, Michigan\, 48197\, Ypsilanti\, United States;X-APPLE-RADIUS=10
 0;X-TITLE=Ypsilanti District Library - Michigan Ave Branch:geo:42.240746,-
 83.61565
END:VEVENT
BEGIN:VTIMEZONE
TZID:America/Detroit
X-LIC-LOCATION:America/Detroit
BEGIN:DAYLIGHT
DTSTART:20250309T030000
TZOFFSETFROM:-0500
TZOFFSETTO:-0400
TZNAME:EDT
END:DAYLIGHT
END:VTIMEZONE
END:VCALENDAR