BEGIN:VCALENDAR
VERSION:2.0
PRODID:-//wp-events-plugin.com//7.2.3.1//EN
TZID:America/Detroit
X-WR-TIMEZONE:America/Detroit
BEGIN:VEVENT
UID:33525@annarborwithkids.com
DTSTART;TZID=America/Detroit:20251019T110000
DTEND;TZID=America/Detroit:20251019T120000
DTSTAMP:20250908T194455Z
URL:https://annarborwithkids.com/events/halloween-costume-swap-3/
SUMMARY:AADL Halloween Costume Swap
DESCRIPTION:\nCome pick out a new-to-you costume for this year at the AADL 
 Costume Swap!\n\n\n\nThis is a wonderful chance to save money\, clear your
  closet\, and pick out something snazzy for this year. You can drop off yo
 ur gently used and clean costumes at any Library location during the month
  of October. \n\n\n\nThe swap will take place in the Lower Level Program R
 oom\n\n\n\n\n\n\n\n\n\n\n\n\n
ATTACH;FMTTYPE=image/jpeg:https://annarborwithkids.com/wp-content/uploads/
 2015/09/halloween-costume-swap-at-aadl.jpg
CATEGORIES:Arbor Annie's
 Highlights,Babies,Elementary,Free,Halloween,Holidays,Indoor
 Activities,Middle Schoolers,Parents,Preschoolers,Toddler
LOCATION:Downtown Branch of AADL\, 343 South Fifth Avenue\, Ann Arbor\, Mic
 higan\, 48104\, Downtown\, United States
GEO:42.278198;-83.745971
X-APPLE-STRUCTURED-LOCATION;VALUE=URI;X-ADDRESS=343 South Fifth Avenue\, An
 n Arbor\, Michigan\, 48104\, Downtown\, United States;X-APPLE-RADIUS=100;X
 -TITLE=Downtown Branch of AADL:geo:42.278198,-83.745971
END:VEVENT
BEGIN:VTIMEZONE
TZID:America/Detroit
X-LIC-LOCATION:America/Detroit
BEGIN:DAYLIGHT
DTSTART:20250309T030000
TZOFFSETFROM:-0500
TZOFFSETTO:-0400
TZNAME:EDT
END:DAYLIGHT
END:VTIMEZONE
END:VCALENDAR