BEGIN:VCALENDAR
VERSION:2.0
PRODID:-//wp-events-plugin.com//7.2.3.1//EN
TZID:America/Detroit
X-WR-TIMEZONE:America/Detroit
BEGIN:VEVENT
UID:50616@annarborwithkids.com
DTSTART;TZID=America/Detroit:20241026T183000
DTEND;TZID=America/Detroit:20241026T203000
DTSTAMP:20251009T195430Z
URL:https://annarborwithkids.com/events/halloween-bash-2/
SUMMARY:Halloween Bash
DESCRIPTION:\nFor 2025\, they are hosting a Fall Fest at County Farm Park i
 nstead of the Meri Lou Murray Halloween Bash.\n\n\n\nPut on your Halloween
  garb\, and join Washtenaw Parks as the Meri Lou Murray gym is transformed
  into a Halloween haven! \n\n\n\nThere will be some tricks\, some treats a
 nd everything in between. Don't miss out on a festive night of family fun 
 and prizes. The night ends with an amazing balloon drop!\n\n\n\nRegister o
 nline at parksonline.ewashtenaw.org!\n\n\n\n\n
CATEGORIES:Advance Registration,Animals,Arbor Annie's
 Highlights,Babies,Dance,Elementary,Halloween,High Schoolers,Indoor
 Activities,Middle Schoolers,Parents,Preschoolers,Toddler
LOCATION:Meri Lou Murray Recreation Center\, 2960 Washtenaw Avenue\, Ann Ar
 bor\, Michigan\, 48104\, South Ann Arbor\, United States
GEO:42.2573731;-83.70123769999998
X-APPLE-STRUCTURED-LOCATION;VALUE=URI;X-ADDRESS=2960 Washtenaw Avenue\, Ann
  Arbor\, Michigan\, 48104\, South Ann Arbor\, United States;X-APPLE-RADIUS
 =100;X-TITLE=Meri Lou Murray Recreation Center:geo:42.2573731,-83.70123769
 999998
END:VEVENT
BEGIN:VTIMEZONE
TZID:America/Detroit
X-LIC-LOCATION:America/Detroit
BEGIN:DAYLIGHT
DTSTART:20240310T030000
TZOFFSETFROM:-0500
TZOFFSETTO:-0400
TZNAME:EDT
END:DAYLIGHT
END:VTIMEZONE
END:VCALENDAR