BEGIN:VCALENDAR
VERSION:2.0
PRODID:-//wp-events-plugin.com//7.2.3.1//EN
TZID:America/Detroit
X-WR-TIMEZONE:America/Detroit
BEGIN:VEVENT
UID:90534@annarborwithkids.com
DTSTART;TZID=America/Detroit:20251116T113000
DTEND;TZID=America/Detroit:20251116T130000
DTSTAMP:20251106T200103Z
URL:https://annarborwithkids.com/events/greenhills-lower-school-first-look
 /
SUMMARY:Greenhills Lower School First Look
DESCRIPTION:\nBe Among the First to Discover Greenhills Lower School\n\n\n\
 nJoin Green Hills for a unique opportunity to get an inside glimpse at som
 ething truly exciting: the creation of a new lower school from one of the 
 country's great independent schools.\n\n\n\nLaunching in the 2026–2027 s
 chool year\, the lower school program at Greenhills will serve students in
  pre-K through 5th grade with the same commitment to curiosity\, care\, an
 d challenge that has defined our middle and upper schools for decades. Des
 igned with intention\, led by experienced educators\, and rooted in our va
 lues\, the lower school will offer a joyful\, dynamic foundation for lifel
 ong learning.\n\n\n\nAt this special event\, you’ll meet members of the 
 leadership team\, tour the school\, get a first look at the program in dev
 elopment\, and hear how they’re creating something exceptional and rare 
 for young learners. \n\n\n\nSpace will be limited\, and early interest is 
 already high - they already added a second section and slots are limited.\
 n\n\n\n\n
CATEGORIES:Advance Registration,Arbor Annie's
 Highlights,Education,Elementary,Elementary School Open House,Free,Indoor
 Activities,Kindergarten Information,Parents,Preschoolers,Registration
 Required
LOCATION:Greenhills Lower School\, 2293 Platt Rd\, Ann Arbor\, Michigan\, 4
 8104\, South\, United States
GEO:42.253714;-83.699612
X-APPLE-STRUCTURED-LOCATION;VALUE=URI;X-ADDRESS=2293 Platt Rd\, Ann Arbor\,
  Michigan\, 48104\, South\, United States;X-APPLE-RADIUS=100;X-TITLE=Green
 hills Lower School:geo:42.253714,-83.699612
END:VEVENT
BEGIN:VTIMEZONE
TZID:America/Detroit
X-LIC-LOCATION:America/Detroit
BEGIN:STANDARD
DTSTART:20251102T010000
TZOFFSETFROM:-0400
TZOFFSETTO:-0500
TZNAME:EST
END:STANDARD
END:VTIMEZONE
END:VCALENDAR