BEGIN:VCALENDAR
VERSION:2.0
PRODID:-//wp-events-plugin.com//7.2.3.1//EN
TZID:America/Detroit
X-WR-TIMEZONE:America/Detroit
BEGIN:VEVENT
UID:21677@annarborwithkids.com
DTSTART;TZID=America/Detroit:20251101T090000
DTEND;TZID=America/Detroit:20251101T100000
DTSTAMP:20250905T203601Z
URL:https://annarborwithkids.com/events/great-pumpkin-roll-2/
SUMMARY:The Great Pumpkin Roll
DESCRIPTION:\nJoin Saline Recreation for The Great Pumpkin Roll and race y
 our Jack-O-Lanterns at Mill Pond Park in their 22nd Annual Great Pumpkin R
 oll. \n\n\n\nThe goal is to roll your pumpkin down the hill as fast as you
  can. Winners get a fun mystery prize and everyone will enjoy hot cider\, 
 donuts\, a pumpkin launcher and some laughs. There will be seperate divisi
 ons for carved and uncarved pumpkins.\n\n\n\nThere will be cider\, donuts\
 , a pumpkin launcher\, and lots of fun.\n\n\n\nFree but registration is re
 quired to participate..\n\n\n\n\n\n\n\n[wpv-view name="linked-playground"]
 \n
CATEGORIES:Age Range,Arbor Annie's Highlights,Elementary,Fall
 Fun,Free,Halloween,High Schoolers,Middle
 Schoolers,Parents,Preschoolers,Toddler
LOCATION:Mill Pond Park\, 565 W. Bennett St\, Saline\, Michigan\, 48176\, S
 aline\, United States
GEO:42.1710934;-83.7900502
X-APPLE-STRUCTURED-LOCATION;VALUE=URI;X-ADDRESS=565 W. Bennett St\, Saline\
 , Michigan\, 48176\, Saline\, United States;X-APPLE-RADIUS=100;X-TITLE=Mil
 l Pond Park:geo:42.1710934,-83.7900502
END:VEVENT
BEGIN:VTIMEZONE
TZID:America/Detroit
X-LIC-LOCATION:America/Detroit
BEGIN:DAYLIGHT
DTSTART:20250309T030000
TZOFFSETFROM:-0500
TZOFFSETTO:-0400
TZNAME:EDT
END:DAYLIGHT
END:VTIMEZONE
END:VCALENDAR