BEGIN:VCALENDAR
VERSION:2.0
PRODID:-//wp-events-plugin.com//7.2.3.1//EN
TZID:America/Detroit
X-WR-TIMEZONE:America/Detroit
BEGIN:VEVENT
UID:89256@annarborwithkids.com
DTSTART;TZID=America/Detroit:20251012T140000
DTEND;TZID=America/Detroit:20251012T170000
DTSTAMP:20250909T195226Z
URL:https://annarborwithkids.com/events/great-lakes-rabbit-sanctuary-harve
 st-hoppening/
SUMMARY:Great Lakes Rabbit Sanctuary Harvest Hoppening!
DESCRIPTION:\nJoin Great Lakes Rabbit Sanctuary for their Harvest Hoppening
  on Sunday\, October 12th! \n\n\n\nThere will be kids' activities\, includ
 ing a Hopstacle course and pumpkin painting\, property tours (with bunnies
 \, pigs\, and goats)\, a vegan cupcake walk\, and a silent auction. \n\n\n
 \nTickets include vegan chili and butternut squash pasta\, one cup of cide
 r\, and a vegan donut!\n\n\n\nPresale tickets are $23\, and tickets at the
  door are $25. Kids 12 and under are free!\n\n\n\n\n\n\n\n\n
CATEGORIES:Advance Registration,Animals,Arbor Annie's
 Highlights,Charitable Event,Crafts,Elementary,Food,Halloween,High
 Schoolers,Meal,Middle Schoolers,Optional
 Registration,Parents,Preschoolers,Toddler
LOCATION:Great Lakes Rabbit Sanctuary\, 8260 Judd Rd\, Willis\, Michigan\, 
 48191\, Willis\, United States
GEO:42.142294;-83.59474890000001
X-APPLE-STRUCTURED-LOCATION;VALUE=URI;X-ADDRESS=8260 Judd Rd\, Willis\, Mic
 higan\, 48191\, Willis\, United States;X-APPLE-RADIUS=100;X-TITLE=Great La
 kes Rabbit Sanctuary:geo:42.142294,-83.59474890000001
END:VEVENT
BEGIN:VTIMEZONE
TZID:America/Detroit
X-LIC-LOCATION:America/Detroit
BEGIN:DAYLIGHT
DTSTART:20250309T030000
TZOFFSETFROM:-0500
TZOFFSETTO:-0400
TZNAME:EDT
END:DAYLIGHT
END:VTIMEZONE
END:VCALENDAR