BEGIN:VCALENDAR
VERSION:2.0
PRODID:-//wp-events-plugin.com//7.2.3.1//EN
TZID:America/Detroit
X-WR-TIMEZONE:America/Detroit
BEGIN:VEVENT
UID:80854@annarborwithkids.com
DTSTART;TZID=America/Detroit:20251011T100000
DTEND;TZID=America/Detroit:20251011T170000
DTSTAMP:20250828T154254Z
URL:https://annarborwithkids.com/events/great-fall-festival/
SUMMARY:Great Fall Festival
DESCRIPTION:\nMaybury Farms Fall Festival includes live music\, activities\
 , games\, photo ops\, playground\, a story walk around the pond\, and farm
  animals.\n\n\n\nGames include:\n\n\n\n\nGames\n\nApple Seed Ball Roll\n\n
 \n\nGiant Ring Toss\n\n\n\nSpider Web\n\n\n\nGiant Inflatable Slide\n\n\n\
 nCorn Racers\n\n\n\nJohn Deere Tractor &amp\; Hoppity Horse Course\n\n\n\n
 Feed the Pumpkin\n\n\n\nGiant Inflatable Wheel\n\n\n\nSlingshot Game\n\n\n
 \nHidden Pumpkin &amp\; More\n\n\n\n\n\nActivities\n\nFace Painting\n\n\n\
 nPumpkin Decorating\n\n\n\nSpider Web Craft\n\n\n\nLeaf on a Stick\n\n\n\n
 Tree decoration with fall leaves\n\n\n\nCandy corn kids\n\n\n\nMake a Ghos
 t\n\n\n\nFace Tattoos\n\n\n\n\n\nFood Trucks\n\nKeaki's\n\n\n\nPablo's Tac
 os\n\n\n\nKona Ice \n\n\n\nCool Beans Java Cafe\n\n\n\nMaybury Farms Grill
 ed Hot Dogs\n\n\n\n\n\nLive music noon-3p \n\n\n\n\nAdmission is $14 for f
 arm and festival or $20 for farm\, festival\, and corn maze.\n\n\n\nRain d
 ate is Sunday\, October 12\n\n\n\n\n\n\n
CATEGORIES:Advance Registration,Animals,Arbor Annie's
 Highlights,Crafts,Elementary,Fall Fun,Food,Games,Halloween,High
 Schoolers,Middle Schoolers,Outdoor,Parents,Preschoolers,Toddler
LOCATION:Maybury Farm\, 50165 8 Mile Rd\, Northville\, Michigan\, 48168\, N
 orthville\, United States
X-APPLE-STRUCTURED-LOCATION;VALUE=URI;X-ADDRESS=50165 8 Mile Rd\, Northvill
 e\, Michigan\, 48168\, Northville\, United States;X-APPLE-RADIUS=100;X-TIT
 LE=Maybury Farm:geo:0,0
END:VEVENT
BEGIN:VTIMEZONE
TZID:America/Detroit
X-LIC-LOCATION:America/Detroit
BEGIN:DAYLIGHT
DTSTART:20250309T030000
TZOFFSETFROM:-0500
TZOFFSETTO:-0400
TZNAME:EDT
END:DAYLIGHT
END:VTIMEZONE
END:VCALENDAR