BEGIN:VCALENDAR
VERSION:2.0
PRODID:-//wp-events-plugin.com//7.2.3.1//EN
TZID:America/Detroit
X-WR-TIMEZONE:America/Detroit
BEGIN:VEVENT
UID:93226@annarborwithkids.com
DTSTART;TZID=America/Detroit:20260422T180000
DTEND;TZID=America/Detroit:20260422T190000
DTSTAMP:20260323T183843Z
URL:https://annarborwithkids.com/events/graphic-recording/
SUMMARY:Graphic Recording
DESCRIPTION:\nGraphic recording\, also called visual note-taking\, is a way
  to capture complex ideas with simple drawings and captions. After some wa
 rm-up drawing exercises and some practice making pictograms\, we will watc
 h some short videos to put our ideas into practice.\n\n\n\nFor teens &amp\
 ; adults.\n
CATEGORIES:Arbor Annie's Highlights,Free,High Schoolers,Indoor
 Activities,Middle Schoolers,Parents,Writing
LOCATION:Pittsfield Branch Library\, 2359 Oak Valley Dr\, Ann Arbor\, Michi
 gan\, 48103\, Pittsfield\, United States
GEO:42.2526001;-83.77801540000002
X-APPLE-STRUCTURED-LOCATION;VALUE=URI;X-ADDRESS=2359 Oak Valley Dr\, Ann Ar
 bor\, Michigan\, 48103\, Pittsfield\, United States;X-APPLE-RADIUS=100;X-T
 ITLE=Pittsfield Branch Library:geo:42.2526001,-83.77801540000002
END:VEVENT
BEGIN:VTIMEZONE
TZID:America/Detroit
X-LIC-LOCATION:America/Detroit
BEGIN:DAYLIGHT
DTSTART:20260308T030000
TZOFFSETFROM:-0500
TZOFFSETTO:-0400
TZNAME:EDT
END:DAYLIGHT
END:VTIMEZONE
END:VCALENDAR