BEGIN:VCALENDAR
VERSION:2.0
PRODID:-//wp-events-plugin.com//7.2.3.1//EN
TZID:America/Detroit
X-WR-TIMEZONE:America/Detroit
BEGIN:VEVENT
UID:92601@annarborwithkids.com
DTSTART;TZID=America/Detroit:20260329T130000
DTEND;TZID=America/Detroit:20260329T143000
DTSTAMP:20260219T191435Z
URL:https://annarborwithkids.com/events/googly-eye-stravaganza/
SUMMARY:Googly Eye-stravaganza
DESCRIPTION:\nHave you ever noticed how putting googly eyes on something\, 
 like a lamp or a water bottle\, just makes life a little more fun? Then us
 e our stash of googly eyes to decorate some stuff! We will have different 
 sizes and styles of googly eyes on hand. Bring an item from home to decora
 te or make a craft with googly eyes to brighten your day.\n\n\n\nPlease on
 ly bring family-friendly items small enough to carry in your arms. Keep in
  mind that putting googly eyes on an object may damage its surface\, so pr
 oceed at your own risk.\n\n\n\nFor grades K-Adult.\n
CATEGORIES:Arbor Annie's Highlights,Crafts,Elementary,Free,High
 Schoolers,Indoor Activities,Middle Schoolers,Parents
LOCATION:Westgate Branch of AADL\, 2503 Jackson Ave\, Ann Arbor\, Michigan\
 , 48103\, West\, United States
GEO:42.2786067;-83.78273059999998
X-APPLE-STRUCTURED-LOCATION;VALUE=URI;X-ADDRESS=2503 Jackson Ave\, Ann Arbo
 r\, Michigan\, 48103\, West\, United States;X-APPLE-RADIUS=100;X-TITLE=Wes
 tgate Branch of AADL:geo:42.2786067,-83.78273059999998
END:VEVENT
BEGIN:VTIMEZONE
TZID:America/Detroit
X-LIC-LOCATION:America/Detroit
BEGIN:DAYLIGHT
DTSTART:20260308T030000
TZOFFSETFROM:-0500
TZOFFSETTO:-0400
TZNAME:EDT
END:DAYLIGHT
END:VTIMEZONE
END:VCALENDAR