BEGIN:VCALENDAR
VERSION:2.0
PRODID:-//wp-events-plugin.com//7.2.3.1//EN
TZID:America/Detroit
X-WR-TIMEZONE:America/Detroit
BEGIN:VEVENT
UID:33939@annarborwithkids.com
DTSTART;TZID=America/Detroit:20251026T163000
DTEND;TZID=America/Detroit:20251026T183000
DTSTAMP:20251009T172126Z
URL:https://annarborwithkids.com/events/goldfish-swim-school-trunk-treat/
SUMMARY:Trunk or Treat
DESCRIPTION:\nWhether you're a tiny tot or a big kid at heart\, make a spla
 sh with Goldfish Swim School this Halloween! \n\n\n\nThey'll have Trunk or
  Treating in the parking lot and free family swim. \n\n\n\nThis is a FREE 
 community event! Let's get spooky! Reserve your spot today! \n\n\n\n\n\n\
 n\n\n\n\n\n\n\n\n
CATEGORIES:Advance Registration,Arbor Annie's
 Highlights,Elementary,Free,Halloween,Indoor
 Activities,Outdoor,Parents,Preschoolers,Swimming,Toddler,Trick or Treat
LOCATION:Goldfish Swim School\, 2107 W Stadium Blvd\, Ann Arbor \, Michigan
 \, 48103\, West Ann Arbor\, United States
GEO:42.2715048;-83.7780914
X-APPLE-STRUCTURED-LOCATION;VALUE=URI;X-ADDRESS=2107 W Stadium Blvd\, Ann A
 rbor \, Michigan\, 48103\, West Ann Arbor\, United States;X-APPLE-RADIUS=1
 00;X-TITLE=Goldfish Swim School:geo:42.2715048,-83.7780914
END:VEVENT
BEGIN:VTIMEZONE
TZID:America/Detroit
X-LIC-LOCATION:America/Detroit
BEGIN:DAYLIGHT
DTSTART:20250309T030000
TZOFFSETFROM:-0500
TZOFFSETTO:-0400
TZNAME:EDT
END:DAYLIGHT
END:VTIMEZONE
END:VCALENDAR