BEGIN:VCALENDAR
VERSION:2.0
PRODID:-//wp-events-plugin.com//7.2.3.1//EN
TZID:America/Detroit
X-WR-TIMEZONE:America/Detroit
BEGIN:VEVENT
UID:93556@annarborwithkids.com
DTSTART;TZID=America/Detroit:20260514T183000
DTEND;TZID=America/Detroit:20260514T193000
DTSTAMP:20260423T164913Z
URL:https://annarborwithkids.com/events/glorious-taiwan/
SUMMARY:Glorious Taiwan
DESCRIPTION:\nJoin AADL to celebrate Asian American and Pacific Islander He
 ritage Month and Taiwanese American Heritage Week with a performance\, Gl
 orious Taiwan\, by dancers and musicians from the Formosa Melody Music Cen
 ter.\n\n\n\nFormosa Melody Music Center is a well-known Taiwanese performi
 ng arts group who has twice been selected by the Overseas Community Affair
 s Council to tour the Americas on behalf of Taiwan.\n\n\n\nThis event is s
 ponsored by the Michigan Taiwanese American Organization\, Ann Arbor Chine
 se Center of Michigan\, Taiwan Center for Mandarin Learning-Ann Arbor\, Ta
 iwanese American Chamber of Commerce Ann Arbor-Jackson\, and TAIAMERICA Pr
 operties.\n\n\n\nFor teens &amp\; adults. Offered by AADL at WCC's Towsley
  Auditorium.\n\n\n\n\n
CATEGORIES:Arbor Annie's Highlights,BIPOC,Concert,Free,High
 Schoolers,Indoor Activities,Music/Concerts,Parents
LOCATION:Washtenaw Community College\, 4800 East Huron River Drive\, Ann Ar
 bor\, Michigan\, 48104\, Michigan\, United States
GEO:42.2634903;-83.6655609
X-APPLE-STRUCTURED-LOCATION;VALUE=URI;X-ADDRESS=4800 East Huron River Drive
 \, Ann Arbor\, Michigan\, 48104\, Michigan\, United States;X-APPLE-RADIUS=
 100;X-TITLE=Washtenaw Community College:geo:42.2634903,-83.6655609
END:VEVENT
BEGIN:VTIMEZONE
TZID:America/Detroit
X-LIC-LOCATION:America/Detroit
BEGIN:DAYLIGHT
DTSTART:20260308T030000
TZOFFSETFROM:-0500
TZOFFSETTO:-0400
TZNAME:EDT
END:DAYLIGHT
END:VTIMEZONE
END:VCALENDAR