BEGIN:VCALENDAR
VERSION:2.0
PRODID:-//wp-events-plugin.com//7.2.3.1//EN
TZID:America/Detroit
X-WR-TIMEZONE:America/Detroit
BEGIN:VEVENT
UID:92598@annarborwithkids.com
DTSTART;TZID=America/Detroit:20260328T110000
DTEND;TZID=America/Detroit:20260328T130000
DTSTAMP:20260219T185301Z
URL:https://annarborwithkids.com/events/glaawc-writers-circle-building-you
 r-author-legacy/
SUMMARY:GLAAWC Writers Circle: Building Your Author Legacy
DESCRIPTION:\nJoin&nbsp\;Dr. Michael Copeland\, 2025 Author of the Year Win
 ner\, and&nbsp\;Schwartzen Precil\, 2025 Author of the Year Finalist\, for
  an engaging author workshop presented through Great Lakes African America
 n Writers Conference. This interactive session—“Build Your Author Lega
 cy”—guides writers in strengthening their author community\, understan
 ding their literary legacy\, and navigating publishing with confidence. At
 tendees will gain actionable insights on writing\, branding\, and marketin
 g\, and connect with a supportive network of fellow authors. Perfect for a
 spiring and established writers looking to elevate their craft and impact.
 \n\n\n\nFor teens &amp\; adults. Held in 4th Floor Program Room.\n\n\n\nTh
 is event is in partnership with the Great Lakes African American Writers C
 onference (GLAAWC\, pronounced "Glossy").\n
CATEGORIES:Arbor Annie's Highlights,BIPOC,Free,High Schoolers,Indoor
 Activities,Parents,Writing
LOCATION:Downtown Branch of AADL\, 343 South Fifth Avenue\, Ann Arbor\, Mic
 higan\, 48104\, Downtown\, United States
GEO:42.278198;-83.745971
X-APPLE-STRUCTURED-LOCATION;VALUE=URI;X-ADDRESS=343 South Fifth Avenue\, An
 n Arbor\, Michigan\, 48104\, Downtown\, United States;X-APPLE-RADIUS=100;X
 -TITLE=Downtown Branch of AADL:geo:42.278198,-83.745971
END:VEVENT
BEGIN:VTIMEZONE
TZID:America/Detroit
X-LIC-LOCATION:America/Detroit
BEGIN:DAYLIGHT
DTSTART:20260308T030000
TZOFFSETFROM:-0500
TZOFFSETTO:-0400
TZNAME:EDT
END:DAYLIGHT
END:VTIMEZONE
END:VCALENDAR