BEGIN:VCALENDAR
VERSION:2.0
PRODID:-//wp-events-plugin.com//7.2.3.1//EN
TZID:America/Detroit
X-WR-TIMEZONE:America/Detroit
BEGIN:VEVENT
UID:87782@annarborwithkids.com
DTSTART;TZID=America/Detroit:20251012T090000
DTEND;TZID=America/Detroit:20251012T103000
DTSTAMP:20251002T195019Z
URL:https://annarborwithkids.com/events/girls-skate-instruction-2025-10-12
 /
SUMMARY:A Very AGS Halloween - All-Girls Skate Instruction
DESCRIPTION:\nThe Ann Arbor Skate Park offers&nbsp\;an&nbsp\;All-Girls Skat
 e Instruction&nbsp\;on the second and fourth Sunday of each month from Jun
 e-October\n\n\n\nSunday\, October 12 is the last session of 2025 and they'
 ll be celebrating Halloween!\n\n\n\nThere will be 🍎 cider\, 🍩 donuts
 \, 🎃 costumes\, 🌈 tie dye (from @thechillouttentdotnet)\, and 🛹 
 skateboarding!!\n\n\n\n☆Wear your best costumes\, stop by\, and celebrat
 e an awesome season☆\n\n\n\n☆The first 30 AGS participants will be abl
 e to tie dye a special NEW AGS tee!\n\n\n\n\n
CATEGORIES:Arbor Annie's
 Highlights,Classes,Elementary,Fitness,Fitness/Health,Free,Halloween,High
 Schoolers,Middle Schoolers,Preschoolers,Sport
LOCATION:Ann Arbor Skate Park\, 350 N. Maple\, Ann Arbor\, Michigan\, 48103
 \, West Side\, United States
GEO:42.2834666;-83.78041559999997
X-APPLE-STRUCTURED-LOCATION;VALUE=URI;X-ADDRESS=350 N. Maple\, Ann Arbor\, 
 Michigan\, 48103\, West Side\, United States;X-APPLE-RADIUS=100;X-TITLE=An
 n Arbor Skate Park:geo:42.2834666,-83.78041559999997
END:VEVENT
BEGIN:VTIMEZONE
TZID:America/Detroit
X-LIC-LOCATION:America/Detroit
BEGIN:DAYLIGHT
DTSTART:20250309T030000
TZOFFSETFROM:-0500
TZOFFSETTO:-0400
TZNAME:EDT
END:DAYLIGHT
END:VTIMEZONE
END:VCALENDAR