BEGIN:VCALENDAR
VERSION:2.0
PRODID:-//wp-events-plugin.com//7.2.3.1//EN
TZID:America/Detroit
X-WR-TIMEZONE:America/Detroit
BEGIN:VEVENT
UID:92571@annarborwithkids.com
DTSTART;TZID=America/Detroit:20260314T130000
DTEND;TZID=America/Detroit:20260314T150000
DTSTAMP:20260219T161012Z
URL:https://annarborwithkids.com/events/giant-hamburger-sculptures/
SUMMARY:Giant Hamburger Sculptures
DESCRIPTION:\nMake a giant hamburger out of cardboard\, tissue paper\, some
  paint\, and glue. Don't like onions? Don't put them on. Extra cheese? You
  got it! You finally get a hamburger made just the way you like it.\n\n\n\
 nFor grades K-Adult. Held in 4th Floor Program Room.\n
CATEGORIES:Arbor Annie's Highlights,Crafts,Elementary,Free,High
 Schoolers,Indoor Activities,Middle Schoolers,Parents
LOCATION:Downtown Branch of AADL\, 343 South Fifth Avenue\, Ann Arbor\, Mic
 higan\, 48104\, Downtown\, United States
GEO:42.278198;-83.745971
X-APPLE-STRUCTURED-LOCATION;VALUE=URI;X-ADDRESS=343 South Fifth Avenue\, An
 n Arbor\, Michigan\, 48104\, Downtown\, United States;X-APPLE-RADIUS=100;X
 -TITLE=Downtown Branch of AADL:geo:42.278198,-83.745971
END:VEVENT
BEGIN:VTIMEZONE
TZID:America/Detroit
X-LIC-LOCATION:America/Detroit
BEGIN:DAYLIGHT
DTSTART:20260308T030000
TZOFFSETFROM:-0500
TZOFFSETTO:-0400
TZNAME:EDT
END:DAYLIGHT
END:VTIMEZONE
END:VCALENDAR