BEGIN:VCALENDAR
VERSION:2.0
PRODID:-//wp-events-plugin.com//7.2.3.1//EN
TZID:America/Detroit
X-WR-TIMEZONE:America/Detroit
BEGIN:VEVENT
UID:54499@annarborwithkids.com
DTSTART;TZID=America/Detroit:20260110T140000
DTEND;TZID=America/Detroit:20260110T153000
DTSTAMP:20260109T050703Z
URL:https://annarborwithkids.com/events/get-to-know-greenhills-information
 -session/
SUMMARY:Get to Know Greenhills Lower School Information Session
DESCRIPTION:\nBeginning in the 2026–2027 school year\, Greenhills will op
 en its new lower school on the former Summers-Knoll campus\, serving stude
 nts in pre-K through 5th grade. At this in-person event\, you’ll get a f
 irsthand look at the kind of experience they're building for young learner
 s: one that sparks curiosity\, builds confidence\, and nurtures each child
 ’s sense of belonging and wonder.\n\n\n\nMeet the educators who will bri
 ng this vision to life\, explore our newly imagined classrooms\, and learn
  more about the curriculum and community taking shape. Whether you’re ju
 st beginning to explore your options or already envisioning your child at 
 Greenhills\, they invite you to see what’s ahead\, and why families who 
 know Greenhills are so excited to begin here.\n\n\n\nRegister to Attend.\n
 \n\n\n\n
CATEGORIES:Arbor Annie's Highlights,Education,Elementary School Open
 House,Kindergarten Information,Parents
LOCATION:Greenhills Lower School\, 2293 Platt Rd\, Ann Arbor\, Michigan\, 4
 8104\, South\, United States
GEO:42.253714;-83.699612
X-APPLE-STRUCTURED-LOCATION;VALUE=URI;X-ADDRESS=2293 Platt Rd\, Ann Arbor\,
  Michigan\, 48104\, South\, United States;X-APPLE-RADIUS=100;X-TITLE=Green
 hills Lower School:geo:42.253714,-83.699612
END:VEVENT
BEGIN:VTIMEZONE
TZID:America/Detroit
X-LIC-LOCATION:America/Detroit
BEGIN:STANDARD
DTSTART:20251102T010000
TZOFFSETFROM:-0400
TZOFFSETTO:-0500
TZNAME:EST
END:STANDARD
END:VTIMEZONE
END:VCALENDAR