BEGIN:VCALENDAR
VERSION:2.0
PRODID:-//wp-events-plugin.com//7.2.3.1//EN
TZID:America/Detroit
X-WR-TIMEZONE:America/Detroit
BEGIN:VEVENT
UID:77070@annarborwithkids.com
DTSTART;TZID=America/Detroit:20240401T110000
DTEND;TZID=America/Detroit:20240401T120000
DTSTAMP:20240328T150204Z
URL:https://annarborwithkids.com/events/get-ready-for-the-april-8-solar-ec
 lipse/
SUMMARY:Get Ready for the April 8 Solar Eclipse
DESCRIPTION:\nNorbert Vance\, director of the Sherzer Observatory at Easter
 n Michigan University\, will give a presentation in the Downtown Lobby on 
 the upcoming April 8 solar eclipse. He'll talk about what to expect with 9
 9% totality here in Ann Arbor\, versus 100% totality just an hour south of
  us\, and he'll offer some last-minute tips and tricks to get the most out
  of your viewing experience.\n\n\n\nFor grades 4-Adult.\n\n\n\nHeld in Fir
 st Floor Lobby\n\n\n\n[wpv-view name="posts-by-id-shortcode" ids="53206"]\
 n
CATEGORIES:Free,High Schoolers,Indoor Activities,Middle
 Schoolers,Parents,STEM
LOCATION:Downtown Branch of AADL\, 343 South Fifth Avenue\, Ann Arbor\, Mic
 higan\, 48104\, Downtown\, United States
GEO:42.278198;-83.745971
X-APPLE-STRUCTURED-LOCATION;VALUE=URI;X-ADDRESS=343 South Fifth Avenue\, An
 n Arbor\, Michigan\, 48104\, Downtown\, United States;X-APPLE-RADIUS=100;X
 -TITLE=Downtown Branch of AADL:geo:42.278198,-83.745971
END:VEVENT
BEGIN:VTIMEZONE
TZID:America/Detroit
X-LIC-LOCATION:America/Detroit
BEGIN:DAYLIGHT
DTSTART:20240310T030000
TZOFFSETFROM:-0500
TZOFFSETTO:-0400
TZNAME:EDT
END:DAYLIGHT
END:VTIMEZONE
END:VCALENDAR