BEGIN:VCALENDAR
VERSION:2.0
PRODID:-//wp-events-plugin.com//7.2.3.1//EN
TZID:America/Detroit
X-WR-TIMEZONE:America/Detroit
BEGIN:VEVENT
UID:92502@annarborwithkids.com
DTSTART;TZID=America/Detroit:20260207T120000
DTEND;TZID=America/Detroit:20260207T180000
DTSTAMP:20260206T210016Z
URL:https://annarborwithkids.com/events/galentines-mini-market/
SUMMARY:Galentine's Mini Market
DESCRIPTION:\nMain Street Ann Arbor's Annual Galentine’s Day event is a S
 mall Business Crawl! This event features a passport style small business c
 rawl\, where you can collect stickers from participating businesses throug
 hout Downtown Ann Arbor and be entered to win a giant gift basket of items
 !\n\n\n\n210 Events is featuring their private event space King &amp\; Whi
 te for Galentine’s\, with a pop-up Mini Market. Shop local vendors and a
 rtists\, grab treats from Miso and Butter Bakery\, and warm up with a FREE
  hot cocoa bar\n\n\n\nFeatured Artists include:\n\n\n\n\nThe Burrow and Th
 e Acorn\n\n\n\nGinger Nutmeg Art\n\n\n\nNat Van Roth\n\n\n\nScarlet Crane\
 n\n\n\n\n\n
CATEGORIES:Craft/Vendor,Elementary,Food,High Schoolers,Middle
 Schoolers,Parents,Preschoolers,Shopping,Valentine's Day
LOCATION:King & White\, 210 First St\, Ann Arbor\, Michigan\, 48104\, Unite
 d States
GEO:42.280027;-83.751357
X-APPLE-STRUCTURED-LOCATION;VALUE=URI;X-ADDRESS=210 First St\, Ann Arbor\, 
 Michigan\, 48104\, United States;X-APPLE-RADIUS=100;X-TITLE=King & White:g
 eo:42.280027,-83.751357
END:VEVENT
BEGIN:VTIMEZONE
TZID:America/Detroit
X-LIC-LOCATION:America/Detroit
BEGIN:STANDARD
DTSTART:20251102T010000
TZOFFSETFROM:-0400
TZOFFSETTO:-0500
TZNAME:EST
END:STANDARD
END:VTIMEZONE
END:VCALENDAR