BEGIN:VCALENDAR
VERSION:2.0
PRODID:-//wp-events-plugin.com//7.2.3.1//EN
TZID:America/Detroit
X-WR-TIMEZONE:America/Detroit
BEGIN:VEVENT
UID:74839@annarborwithkids.com
DTSTART;TZID=America/Detroit:20241026T093000
DTEND;TZID=America/Detroit:20241026T133000
DTSTAMP:20241016T205004Z
URL:https://annarborwithkids.com/events/fun-food-fall-festival/
SUMMARY:Halloween Cookie Decorating Party
DESCRIPTION:\nKids of all ages are invited to come dressed up in their favo
 rite Halloween costumes and enjoy the fun and treats at Bakers Nook. \n\n\
 n\nEnjoy delicious Halloween-themed cupcakes\, donuts\, and more. Each chi
 ld will receive one FREE cookie to decorate and each child will receive on
 e FREE special treat. Supplies are limited\, so be sure to arrive early! 
 \n\n\n\n\n\n\n
CATEGORIES:Arbor Annie's Highlights,Crafts,Elementary,Fall
 Fun,Food,Free,Halloween,High Schoolers,Middle
 Schoolers,Parents,Preschoolers,Toddler
LOCATION:Baker\\'s Nook\, 901 West Michigan Ave\, Saline\, Michigan\, 48176
 \, United States
GEO:42.160536;-83.795375
X-APPLE-STRUCTURED-LOCATION;VALUE=URI;X-ADDRESS=901 West Michigan Ave\, Sal
 ine\, Michigan\, 48176\, United States;X-APPLE-RADIUS=100;X-TITLE=Baker\\'
 s Nook:geo:42.160536,-83.795375
END:VEVENT
BEGIN:VTIMEZONE
TZID:America/Detroit
X-LIC-LOCATION:America/Detroit
BEGIN:DAYLIGHT
DTSTART:20240310T030000
TZOFFSETFROM:-0500
TZOFFSETTO:-0400
TZNAME:EDT
END:DAYLIGHT
END:VTIMEZONE
END:VCALENDAR