BEGIN:VCALENDAR
VERSION:2.0
PRODID:-//wp-events-plugin.com//7.2.3.1//EN
TZID:America/Detroit
X-WR-TIMEZONE:America/Detroit
BEGIN:VEVENT
UID:75472@annarborwithkids.com
DTSTART;TZID=America/Detroit:20251024T150000
DTEND;TZID=America/Detroit:20251024T190000
DTSTAMP:20251016T192741Z
URL:https://annarborwithkids.com/events/fright-night-at-sauk-trail-plaza/
SUMMARY:Fright Night at Sauk Trail Plaza
DESCRIPTION:\nSauk Trail Plaza in Saline will be holding a Fright Night. \n
 \n\n\nPick up treasure hunt paperwork from R U Game? and hunt for treasure
 . Visit participating plaza businesses for candy and to solve clues.\n\n\n
 \n\nCostume Contest at 5p for ages 11 &amp\; under and 7p for ages 12-adul
 t.\n\n\n\nOh My Gourd! Painted pumpkin faceoff. Bring your pre-painted pum
 pkin to R U Game at 6p\n\n\n\nColoring Competition - Pick up your blank ar
 t work from R U Game? or one of the local restaurants. It will be displaye
 d until Fright Night for judging and prizes.\n\n\n\n\n\n
CATEGORIES:Arbor Annie's Highlights,Elementary,Free,Games,Halloween,High
 Schoolers,Middle Schoolers,Parents,Preschoolers,Toddler,Trick or Treat
LOCATION:R U Game?\, 1345 E Michigan Avenue\, Saline\, Michigan\, 48176\, U
 nited States
GEO:42.178571;-83.758672
X-APPLE-STRUCTURED-LOCATION;VALUE=URI;X-ADDRESS=1345 E Michigan Avenue\, Sa
 line\, Michigan\, 48176\, United States;X-APPLE-RADIUS=100;X-TITLE=R U Gam
 e?:geo:42.178571,-83.758672
END:VEVENT
BEGIN:VTIMEZONE
TZID:America/Detroit
X-LIC-LOCATION:America/Detroit
BEGIN:DAYLIGHT
DTSTART:20250309T030000
TZOFFSETFROM:-0500
TZOFFSETTO:-0400
TZNAME:EDT
END:DAYLIGHT
END:VTIMEZONE
END:VCALENDAR