BEGIN:VCALENDAR
VERSION:2.0
PRODID:-//wp-events-plugin.com//7.2.3.1//EN
TZID:America/Detroit
X-WR-TIMEZONE:America/Detroit
BEGIN:VEVENT
UID:71312@annarborwithkids.com
DTSTART;TZID=America/Detroit:20260503T130000
DTEND;TZID=America/Detroit:20260503T150000
DTSTAMP:20260423T214519Z
URL:https://annarborwithkids.com/events/friends-of-ydl-book-sale-7/
SUMMARY:Friends of YDL Book Sale
DESCRIPTION:\nBook sale prices are $1 for hardcovers\, 25¢ for paperbacks\
 , and 50¢ for mass market paperbacks and $1 for oversize paperbacks. On S
 unday\, May 3 there will be bags of books available for $5\, and some book
 s will be sold for a reduced price.\n\n\n\nThere is also a members only pr
 eview sale on April 30 from 6-8p. \n\n\n\nPublic Schedule:\n\n\n\n[events_
 list tag="ydl friends" scope="2026-04-01\,2026-05-31"]📚 #_{l\, F j} at 
 #_EVENTTIMES - #_EVENTLINK at Ypsilanti District Library - Whittaker Rd[/e
 vents_list]\n\n\n\n\n
CATEGORIES:Arbor Annie's Highlights,Elementary,High Schoolers,Indoor
 Activities,Middle Schoolers,Parents,Preschoolers,Shopping,Toddler
LOCATION:Ypsilanti District Library - Whittaker Rd\, 5577 Whittaker Rd\, Yp
 silanti\, Michigan\, 48197\, Ypsilanti\, United States
GEO:42.208097;-83.61557
X-APPLE-STRUCTURED-LOCATION;VALUE=URI;X-ADDRESS=5577 Whittaker Rd\, Ypsilan
 ti\, Michigan\, 48197\, Ypsilanti\, United States;X-APPLE-RADIUS=100;X-TIT
 LE=Ypsilanti District Library - Whittaker Rd:geo:42.208097,-83.61557
END:VEVENT
BEGIN:VTIMEZONE
TZID:America/Detroit
X-LIC-LOCATION:America/Detroit
BEGIN:DAYLIGHT
DTSTART:20260308T030000
TZOFFSETFROM:-0500
TZOFFSETTO:-0400
TZNAME:EDT
END:DAYLIGHT
END:VTIMEZONE
END:VCALENDAR