BEGIN:VCALENDAR
VERSION:2.0
PRODID:-//wp-events-plugin.com//7.2.3.1//EN
TZID:America/Detroit
X-WR-TIMEZONE:America/Detroit
BEGIN:VEVENT
UID:70930@annarborwithkids.com
DTSTART;TZID=America/Detroit:20230520T113000
DTEND;TZID=America/Detroit:20230520T120000
DTSTAMP:20230713T131430Z
URL:https://annarborwithkids.com/events/free-ninja-obstacle-course-for-kid
 s-7/
SUMMARY:Free Ninja Obstacle Course for Kids
DESCRIPTION:\nAnn Arbor Parents: Join us for an exciting\, FREE Ninja Obsta
 cle Course for Kids on Saturday\, May 20th\, from 11:30 to 12:00! Open to 
 4-8 year olds. Includes age appropriate training in agility and body balan
 ce!\n\n\n\n\n\n\n\nSign up here (It's FREE!): https://member-site.net/VIP/
 default.aspx?FE--bbJJwg\n
ATTACH;FMTTYPE=image/jpeg:https://annarborwithkids.com/wp-content/uploads/
 Ninja_Obstacle_Course_August_2022_450px.jpg
CATEGORIES:Advance Registration,Arbor Annie's Highlights,Display
 Image,Elementary,Fitness/Health,Free,Indoor
 Activities,Plus,Preschoolers,Sponsoring Event,Sport
LOCATION:Keith Hafner's Karate\, 214 S. Main St\, Ann Arbor\, Michigan\, 48
 104\, Downtown\, United States
GEO:42.27994880000001;-83.7488922
X-APPLE-STRUCTURED-LOCATION;VALUE=URI;X-ADDRESS=214 S. Main St\, Ann Arbor\
 , Michigan\, 48104\, Downtown\, United States;X-APPLE-RADIUS=100;X-TITLE=K
 eith Hafner's Karate:geo:42.27994880000001,-83.7488922
END:VEVENT
BEGIN:VTIMEZONE
TZID:America/Detroit
X-LIC-LOCATION:America/Detroit
BEGIN:DAYLIGHT
DTSTART:20230312T030000
TZOFFSETFROM:-0500
TZOFFSETTO:-0400
TZNAME:EDT
END:DAYLIGHT
END:VTIMEZONE
END:VCALENDAR