BEGIN:VCALENDAR
VERSION:2.0
PRODID:-//wp-events-plugin.com//7.2.3.1//EN
TZID:America/Detroit
X-WR-TIMEZONE:America/Detroit
BEGIN:VEVENT
UID:29173@annarborwithkids.com
DTSTART;TZID=America/Detroit:20260502T100000
DTEND;TZID=America/Detroit:20260502T170000
DTSTAMP:20260409T160746Z
URL:https://annarborwithkids.com/events/free-comic-book-day-9/
SUMMARY:Free Comic Book Day
DESCRIPTION:\nJoin Stadium Cards &amp\; Comics for Free Comic Book Day. The
 y are opening at 10a but have not provided any additional details. \n\n\n\
 nIn the past they've had specials running during Free Comic Book Day.\n\n\
 n\n\n
CATEGORIES:Arbor Annie's Highlights,Elementary,Free,High Schoolers,Indoor
 Activities,Middle Schoolers,Parents,Preschoolers
LOCATION:Stadium Cards & Comics\, 2061 Golfside Rd\, Ypsilanti\, Michigan\,
  48197\, Ypsilanti\, United States
GEO:42.2585189;-83.66052630000001
X-APPLE-STRUCTURED-LOCATION;VALUE=URI;X-ADDRESS=2061 Golfside Rd\, Ypsilant
 i\, Michigan\, 48197\, Ypsilanti\, United States;X-APPLE-RADIUS=100;X-TITL
 E=Stadium Cards & Comics:geo:42.2585189,-83.66052630000001
END:VEVENT
BEGIN:VTIMEZONE
TZID:America/Detroit
X-LIC-LOCATION:America/Detroit
BEGIN:DAYLIGHT
DTSTART:20260308T030000
TZOFFSETFROM:-0500
TZOFFSETTO:-0400
TZNAME:EDT
END:DAYLIGHT
END:VTIMEZONE
END:VCALENDAR