BEGIN:VCALENDAR
VERSION:2.0
PRODID:-//wp-events-plugin.com//7.2.3.1//EN
TZID:America/Detroit
X-WR-TIMEZONE:America/Detroit
BEGIN:VEVENT
UID:29171@annarborwithkids.com
DTSTART;TZID=America/Detroit:20260502T110000
DTEND;TZID=America/Detroit:20260502T170000
DTSTAMP:20260423T192956Z
URL:https://annarborwithkids.com/events/free-comic-book-day-7/
SUMMARY:Free Comic Book Day
DESCRIPTION:\nIt's the annual Free Comic Book Day Celebration at Vault of M
 idnight.\n\n\n\nThe Main Event:\n\n\n\nFree comic books from 11am to 5pm -
  while supplies last5 free comic books per person40+ free comic book title
 s to choose fromFree New Limited Edition Vault of Midnight Sticker - while
  supplies last\n\n\n\nVendors\, special guests and more surprise announcem
 ents to come!\n\n\n\nThere is usually a long line to wait for Free Comic B
 ook Day\, so plan to arrive early. Also keep in mind that May 2 is Univers
 ity of Michigan's graduation at the stadium. We definitely recommend arriv
 ing early\, before graduation ends and \n\n\n\nWe have attended many times
  over the years including 2022-2024. Don't miss our review &amp\; video of
  the 2015 Free Comic Book Day Celebration at Vault of Midnight:\n\n\n\n\nh
 ttps://youtu.be/mry9PBkV3as\n\n\n\n\n\n
CATEGORIES:Arbor Annie's Highlights,Elementary,Free,High Schoolers,Indoor
 Activities,Middle Schoolers,Pop Culture,Preschoolers,Shopping
LOCATION:Vault of Midnight\, 219 South Main St\, Ann Arbor\, Michigan\, 481
 04\, Downtown\, United States
GEO:42.2798125;-83.74830629999997
X-APPLE-STRUCTURED-LOCATION;VALUE=URI;X-ADDRESS=219 South Main St\, Ann Arb
 or\, Michigan\, 48104\, Downtown\, United States;X-APPLE-RADIUS=100;X-TITL
 E=Vault of Midnight:geo:42.2798125,-83.74830629999997
END:VEVENT
BEGIN:VTIMEZONE
TZID:America/Detroit
X-LIC-LOCATION:America/Detroit
BEGIN:DAYLIGHT
DTSTART:20260308T030000
TZOFFSETFROM:-0500
TZOFFSETTO:-0400
TZNAME:EDT
END:DAYLIGHT
END:VTIMEZONE
END:VCALENDAR