BEGIN:VCALENDAR
VERSION:2.0
PRODID:-//wp-events-plugin.com//7.2.3.1//EN
TZID:America/Detroit
X-WR-TIMEZONE:America/Detroit
BEGIN:VEVENT
UID:93500@annarborwithkids.com
DTSTART;TZID=America/Detroit:20260425T100000
DTEND;TZID=America/Detroit:20260425T140000
DTSTAMP:20260409T184935Z
URL:https://annarborwithkids.com/events/free-appraisal-day/
SUMMARY:Free Appraisal Day
DESCRIPTION:\nFree Auction &amp\; Art Gallery Evaluations of your Antiques 
 and Art\n\n\n\nSchmidt Antiques is happy to appraise your Art\, Clocks and
  Watches\, Silver\, Art Pottery\, Art Glass\, Asian Art\, Mid Century Mode
 rn items\, Modern Art\, Porcelain\, Bronzes\, Antique Firearms or Decorati
 ve Art items. Please bring photos of furniture or large items.  Items wil
 l be accepted for their upcoming auction sales at this time.\n\n\n\nDo you
  have artwork by a Michigan artist? Are you a Michigan artist? Their Michi
 gan Art Gallery staff will also be hosting a simultaneous free appraisal c
 linic next door. Items will be accepted for our upcoming art gallery sales
  &amp\; exhibitions.\n
CATEGORIES:Free,History,Parents,Shopping
LOCATION:Schmidt's Antiques\, 5138 W Michigan Avenue\, Ypsilanti\, Michigan
 \, 48197\, United States
GEO:42.214169;-83.672242
X-APPLE-STRUCTURED-LOCATION;VALUE=URI;X-ADDRESS=5138 W Michigan Avenue\, Yp
 silanti\, Michigan\, 48197\, United States;X-APPLE-RADIUS=100;X-TITLE=Schm
 idt's Antiques:geo:42.214169,-83.672242
END:VEVENT
BEGIN:VTIMEZONE
TZID:America/Detroit
X-LIC-LOCATION:America/Detroit
BEGIN:DAYLIGHT
DTSTART:20260308T030000
TZOFFSETFROM:-0500
TZOFFSETTO:-0400
TZNAME:EDT
END:DAYLIGHT
END:VTIMEZONE
END:VCALENDAR